BEGIN:VCALENDAR
PRODID:NingEventWidget-v1
VERSION:2.0
METHOD:PUBLISH
BEGIN:VTIMEZONE
TZID:America/Los_Angeles
X-LIC-LOCATION:America/Los_Angeles
BEGIN:DAYLIGHT
TZOFFSETFROM:-0800
TZOFFSETTO:-0700
TZNAME:PDT
DTSTART:19700308T020000
RRULE:FREQ=YEARLY;BYMONTH=3;BYDAY=2SU
END:DAYLIGHT
BEGIN:STANDARD
TZOFFSETFROM:-0700
TZOFFSETTO:-0800
TZNAME:PST
DTSTART:19701101T020000
RRULE:FREQ=YEARLY;BYMONTH=11;BYDAY=1SU
END:STANDARD
END:VTIMEZONE
BEGIN:VEVENT
UID:1464587:Event:444410
DTSTAMP:20260421T032835Z
SUMMARY:Mursday, Mayday & Murs
DESCRIPTION:\nMursday, Mayday & Murs\n\n\nThe Chance Poughkeepsie, NY\
 n\nMon, 10/27/1407:00 PM\n\nSee Ticketson TicketWeb\n\n\n\n\n\n\nFor m
 ore information visit https://trueskool.com/events/mursday-mayday-murs
DTSTART;TZID=America/Los_Angeles:20141027T190000
DTEND;TZID=America/Los_Angeles:20141027T220000
CATEGORIES:nyc
LOCATION:The Chance Poughkeepsie, NY
WEBSITE:http://www.ticketmaster.com/partner_redirect?v=qOFvUMCnq8Fylt0
 Kqpxn_6B_yocBpyi3tSx4CHacmcTs8wRS21BycnZil8VdwZn-pA5Z-27hyU5PRodOys2Pn
 smM7G699rTa5siMQzN92NvENjZmNIYTYReVKcKo0mQzWPw_JhxPlPQOawak65C6xF3Yrnt
 2cNxCr2k89ZbZOz1prQ8QZ5hjWVOcx2qNnLeXWpUsOSY5zoUDLy2Qkg&eventid=29004D
 2504B62379&artistid=2037379&artistname=Mursday,%20Mayday%20&%20Murs&cr
 osssite=TM_US:2037379:125
URL:http://www.ticketmaster.com/partner_redirect?v=qOFvUMCnq8Fylt0Kqpx
 n_6B_yocBpyi3tSx4CHacmcTs8wRS21BycnZil8VdwZn-pA5Z-27hyU5PRodOys2PnsmM7
 G699rTa5siMQzN92NvENjZmNIYTYReVKcKo0mQzWPw_JhxPlPQOawak65C6xF3Yrnt2cNx
 Cr2k89ZbZOz1prQ8QZ5hjWVOcx2qNnLeXWpUsOSY5zoUDLy2Qkg&eventid=29004D2504
 B62379&artistid=2037379&artistname=Mursday,%20Mayday%20&%20Murs&crosss
 ite=TM_US:2037379:125
CONTACT:
ORGANIZER:Editor's Pick
ATTACH;FMTTYPE="image/jpeg":http://storage.ning.com/topology/rest/1.0/
 file/get/2247973436?profile=original
ATTENDEE;ROLE=REQ-PARTICIPANT;PARTSTAT=ACCEPTED;RSVP=TRUE;CN="Ren the 
 Vinyl Archaeologist":https://trueskool.com/profile/xh51jvilojur
END:VEVENT
END:VCALENDAR
