BEGIN:VCALENDAR
PRODID:NingEventWidget-v1
VERSION:2.0
METHOD:PUBLISH
BEGIN:VTIMEZONE
TZID:America/Los_Angeles
X-LIC-LOCATION:America/Los_Angeles
BEGIN:DAYLIGHT
TZOFFSETFROM:-0800
TZOFFSETTO:-0700
TZNAME:PDT
DTSTART:19700308T020000
RRULE:FREQ=YEARLY;BYMONTH=3;BYDAY=2SU
END:DAYLIGHT
BEGIN:STANDARD
TZOFFSETFROM:-0700
TZOFFSETTO:-0800
TZNAME:PST
DTSTART:19701101T020000
RRULE:FREQ=YEARLY;BYMONTH=11;BYDAY=1SU
END:STANDARD
END:VTIMEZONE
BEGIN:VEVENT
UID:1464587:Event:661249
DTSTAMP:20260422T223406Z
SUMMARY:Murs (POSTPONED)
DESCRIPTION: \nMurs\nWednesday Apr 19, 2017 Doors @ 8:00pm / Show @ 9:
 00pm\n$21 advance / door $45.95 dinner\nSlim’s\n333 11th Street\nSan
  Francisco CA 94103 On sale: Friday, 3/3 @ 10am\n \n\nFor more inform
 ation visit https://trueskool.com/events/murs-2
DTSTART;TZID=America/Los_Angeles:20170419T210000
DTEND;TZID=America/Los_Angeles:20170419T230000
CATEGORIES:"san francisco", oakland, berkley, "san jose", "bay area"
LOCATION:Slim's, San Francisco
WEBSITE:https://www.eventbrite.com/e/murs-slims-tickets-32484899208?re
 f=ebtn#_ga=1.218600537.1512335731.1490852801
URL:https://www.eventbrite.com/e/murs-slims-tickets-32484899208?ref=eb
 tn#_ga=1.218600537.1512335731.1490852801
CONTACT:
ORGANIZER;CN="Editor's Pick":https://trueskool.com/profile/RentheVinyl
 Archaeologist
ATTACH;FMTTYPE="image/jpeg":http://storage.ning.com/topology/rest/1.0/
 file/get/2247996081?profile=original
ATTENDEE;ROLE=REQ-PARTICIPANT;PARTSTAT=ACCEPTED;RSVP=TRUE;CN="Editor's
  Pick":https://trueskool.com/profile/RentheVinylArchaeologist
ATTENDEE;ROLE=REQ-PARTICIPANT;PARTSTAT=ACCEPTED;RSVP=TRUE;CN="Tali Ben
 attar":https://trueskool.com/profile/TaliBenattar550
END:VEVENT
END:VCALENDAR
