BEGIN:VCALENDAR
PRODID:NingEventWidget-v1
VERSION:2.0
METHOD:PUBLISH
BEGIN:VTIMEZONE
TZID:America/Los_Angeles
X-LIC-LOCATION:America/Los_Angeles
BEGIN:DAYLIGHT
TZOFFSETFROM:-0800
TZOFFSETTO:-0700
TZNAME:PDT
DTSTART:19700308T020000
RRULE:FREQ=YEARLY;BYMONTH=3;BYDAY=2SU
END:DAYLIGHT
BEGIN:STANDARD
TZOFFSETFROM:-0700
TZOFFSETTO:-0800
TZNAME:PST
DTSTART:19701101T020000
RRULE:FREQ=YEARLY;BYMONTH=11;BYDAY=1SU
END:STANDARD
END:VTIMEZONE
BEGIN:VEVENT
UID:1464587:Event:67963
DTSTAMP:20260420T145335Z
SUMMARY:MOVEMENT: SF Green Fest After Party ft. Myka 9, Abstract Rude
  & Aceyalone, plus more...
DESCRIPTION:\nSUNDAY, NOVEMBER 7\nCyphertown & MindField Present...\nM
 OVEMENT\nSF Green Fest After Party\n\nfeaturing:\nMyka 9, Abstract Ru
 de & Aceyalone \nperforming as:HAIKU D'ETAT (Project Blowed - LA)\
 nMarv Ellis & the Platform w/ the Acoustic Minds (PDX)\nL*Roneous (S
 F)\nSasha Rose w/ Dakini Star & Aima the Dreamer (Goddess Alchemy
 /Dubtronic Science - SF)\nRLS (RussLiquid/Bounce Brigade - PDX)\nMY-G
  & Rose (PDX)\nZack Darling (Mystic Beat Lounge - Santa Rosa)\n\n@
  Temple SF, 540 Howard St. San Francisco\n9pm-4am - 21+ - Benefit Even
 t - $15 Adv/$20 Door\nTix available at: WWW.CYPHERTOWN.ORG\n \n\nFor 
 more information visit https://trueskool.com/events/movement-sf-green-
 fest-after
DTSTART;TZID=America/Los_Angeles:20101107T210000
DTEND;TZID=America/Los_Angeles:20101108T040000
CATEGORIES:san, francisco, ca
LOCATION:Temple, San Francisco
WEBSITE:http://www.cyphertown.org
URL:http://www.cyphertown.org
CONTACT:
ORGANIZER:Cyphertown & MindField
ATTACH;FMTTYPE="image/jpeg":http://storage.ning.com/topology/rest/1.0/
 file/get/2247889511?profile=original
ATTENDEE;ROLE=REQ-PARTICIPANT;PARTSTAT=ACCEPTED;RSVP=TRUE;CN=DirtyNuke
 s:https://trueskool.com/profile/DirtyNukes
ATTENDEE;ROLE=REQ-PARTICIPANT;PARTSTAT=ACCEPTED;RSVP=TRUE;CN="Ren the 
 Vinyl Archaeologist":https://trueskool.com/profile/xh51jvilojur
END:VEVENT
END:VCALENDAR
