BEGIN:VCALENDAR
PRODID:NingEventWidget-v1
VERSION:2.0
METHOD:PUBLISH
BEGIN:VTIMEZONE
TZID:America/Los_Angeles
X-LIC-LOCATION:America/Los_Angeles
BEGIN:DAYLIGHT
TZOFFSETFROM:-0800
TZOFFSETTO:-0700
TZNAME:PDT
DTSTART:19700308T020000
RRULE:FREQ=YEARLY;BYMONTH=3;BYDAY=2SU
END:DAYLIGHT
BEGIN:STANDARD
TZOFFSETFROM:-0700
TZOFFSETTO:-0800
TZNAME:PST
DTSTART:19701101T020000
RRULE:FREQ=YEARLY;BYMONTH=11;BYDAY=1SU
END:STANDARD
END:VTIMEZONE
BEGIN:VEVENT
UID:1464587:Event:30929
DTSTAMP:20260420T195704Z
SUMMARY:Movement
DESCRIPTION:DCSS Presents:\nMovement\nA Special Night Of Roots, Cultur
 e, & Classic Dancehall\n\nJah Warrior Shelter Hi-Fi\nFeaturing I-Vier\
 n\nI&I Vibration\nFeaturing Beatnok\n\nMountain Lion Hi-Fi\nFeaturing 
 Christifari\n\n\nPrice Free before 11pm\nw/ RSVP\nTime 9pm-2am\nMusic 
 Roots, Culture, & Classic Dancehall\n\nFor more information visit http
 s://trueskool.com/events/movement-1
DTSTART;TZID=America/Los_Angeles:20090425T210000
DTEND;TZID=America/Los_Angeles:20090426T030000
CATEGORIES:reggae
LOCATION:Club Six, San Francisco, CA
WEBSITE:http://www.clubsix1.com
URL:http://www.clubsix1.com
CONTACT:415-531-6593
ORGANIZER:Angel
ATTACH;FMTTYPE="image/jpeg":http://storage.ning.com/topology/rest/1.0/
 file/get/2247857342?profile=original
ATTENDEE;ROLE=REQ-PARTICIPANT;PARTSTAT=ACCEPTED;RSVP=TRUE;CN=Cecily:ht
 tps://trueskool.com/profile/Cecily
END:VEVENT
END:VCALENDAR
