BEGIN:VCALENDAR
PRODID:NingEventWidget-v1
VERSION:2.0
METHOD:PUBLISH
BEGIN:VTIMEZONE
TZID:America/Los_Angeles
X-LIC-LOCATION:America/Los_Angeles
BEGIN:DAYLIGHT
TZOFFSETFROM:-0800
TZOFFSETTO:-0700
TZNAME:PDT
DTSTART:19700308T020000
RRULE:FREQ=YEARLY;BYMONTH=3;BYDAY=2SU
END:DAYLIGHT
BEGIN:STANDARD
TZOFFSETFROM:-0700
TZOFFSETTO:-0800
TZNAME:PST
DTSTART:19701101T020000
RRULE:FREQ=YEARLY;BYMONTH=11;BYDAY=1SU
END:STANDARD
END:VTIMEZONE
BEGIN:VEVENT
UID:1464587:Event:63337
DTSTAMP:20260421T003155Z
SUMMARY:Moulin Rouge (live dance performance/DJs)
DESCRIPTION:Welcome to the Moulin Rouge, a key to the city production\
 ncome dance and be dazzled with MJ Paul's GoGo Girlies\nspecial theatr
 ical dance performance of\n\"Diamonds are a Girl's Best Friend\"\n\nDJ
  sets by\nD3LAN\nPrentice Thomas (versed)\nWax Junkie (Mixerfriendly/C
 haracter)\nNUGZ (Footprint/Sofkor)\n\nHors' devours by Choice Catering
 \nTrue Recession Busters\nElement recently lowered it's prices on its 
 entire drink menu\n\nElement Lounge\n1028 Geary blvd (b/w van ness and
  polk)\n$5 cover\n21 and up\nFree w/ Burlesque costume\nFree before 9p
 m with facebook rsvp\n\nSponsored by Choice Catering and keyslistsf.co
 m\n\nFor more information visit https://trueskool.com/events/moulin-ro
 uge-live-dance-1
DTSTART;TZID=America/Los_Angeles:20100812T200000
DTEND;TZID=America/Los_Angeles:20100813T020000
CATEGORIES:"house/electro/techno/break-beat"
LOCATION:Element Lounge
WEBSITE:http://www.elementlounge.com
URL:http://www.elementlounge.com
CONTACT:
ORGANIZER;CN="Keyatta Shade":https://trueskool.com/profile/KeyattaShad
 e
ATTACH;FMTTYPE="image/jpeg":http://storage.ning.com/topology/rest/1.0/
 file/get/2247882236?profile=original
ATTENDEE;ROLE=REQ-PARTICIPANT;PARTSTAT=ACCEPTED;RSVP=TRUE;CN="Keyatta 
 Shade":https://trueskool.com/profile/KeyattaShade
END:VEVENT
END:VCALENDAR
