BEGIN:VCALENDAR
PRODID:NingEventWidget-v1
VERSION:2.0
METHOD:PUBLISH
BEGIN:VTIMEZONE
TZID:America/Los_Angeles
X-LIC-LOCATION:America/Los_Angeles
BEGIN:DAYLIGHT
TZOFFSETFROM:-0800
TZOFFSETTO:-0700
TZNAME:PDT
DTSTART:19700308T020000
RRULE:FREQ=YEARLY;BYMONTH=3;BYDAY=2SU
END:DAYLIGHT
BEGIN:STANDARD
TZOFFSETFROM:-0700
TZOFFSETTO:-0800
TZNAME:PST
DTSTART:19701101T020000
RRULE:FREQ=YEARLY;BYMONTH=11;BYDAY=1SU
END:STANDARD
END:VTIMEZONE
BEGIN:VEVENT
UID:1464587:Event:656899
DTSTAMP:20260422T125024Z
SUMMARY:Motown On Mondays (Oakland)
DESCRIPTION: MONDAY, DEC 12\nMOTOWN ON MONDAYS || OAKLAND \n\"DJs spin
 ning originals, close relatives and exclusive remixes of your favorite
  MOTOWN and soul songs\"\nResident DJs: PLATURN (The 45 Sessions | Oak
 land Faders)\n@ The Legionnaire Saloon - 2272 Telegraph Ave, Oakland C
 A |  9pm-2am\nHow Much: FREE!\nMOM OAKLAND (aka MOM OAK) : www.twitter
 .com/mom_oak\n----->\nPrevious guests: Platurn (resident)\nGordo Cabez
 a (MOM SF)\nTimoteo (MOM SF)\nMatteo (MOM SF)\nShortkut (Triple Threat
 )\nVinRoc (Triple Threat)\nPam the Funkstress (The Coup)\nFuze (Digita
 l Underground)\nGoldenChyld (The Bangerz)\nJ-Boogie (OM)\nFrancis Chis
 er (Generations)\nSoul Profess (808 Kids)\nCJ Flash (102.9 \\ The Worl
 d Famous Rick & Russ Show)\nMalachi (LuvLuv Radio)\nStyles (Golden Era
 )\nDonovan (Soul Congregation)\nAustin Boogie Crew\nSmoky (King of Kin
 gs)\nWillie Maze (NVR OVR)\nDC (106.1 KMEL)\nTim Diesel (Local 1200)\n
 DJ Aware (Soul Congregation)\nEl Kool Kyle (Superritmo)\nVinnie Esparz
 a (Groove Merchant/Dub Mission)\nNina Sol (Skin)\nLucy (Southside Spir
 it House)\nMist (Record Rockers)\nLazyboy (Record Rockers)\nOuma (Oakl
 and)\nZimmie (Portland)\nTricky T (Blunt Club Arizona)\nMax Kane (4one
 funk)\nSelecta BC (Sol Musik)\nMOM DJs is a family of djs, musicians, 
 event producers, designers and music enthusiasts that all share a pass
 ion for the convergence of soulful dance music. We perform at and prod
 uce weekly, monthly and special events across the globe. From our head
 quarters in San Francisco to Los Angeles, New York to Austin, Honolulu
  to Berlin, Moscow to Vancouver, we represent the most spirited events
  with a unique vibration. After several years of cultivating the colle
 ctive energies of our partners and fans we’ve grown a veritable gard
 en of talent to work with. Our inspiration comes from Motown, soul, fu
 nk and disco with a focus on original remixes and edits of timeless so
 ngs. We continually seek to bridge the gap from the tender eared youth
  to the discerning tastes of our much respected elders while placing e
 mphasis on quality and vibe over bottom line marketing. No matter what
  the project we keep your spirits lifted and hearts attuned!\n(HNL - D
 EN - LA - SF - NY - OAK)\nwww.motownonmondays.com\n\nFor more informat
 ion visit https://trueskool.com/events/motown-on-mondays-oakland
DTSTART;TZID=America/Los_Angeles:20161212T210000
DTEND;TZID=America/Los_Angeles:20161213T020000
CATEGORIES:"bay area", oakland
LOCATION:Legionnaire Saloon, Oakland
WEBSITE:http://www.legionnairesaloon.com
URL:http://www.legionnairesaloon.com
CONTACT:
ORGANIZER:Motown on Mondays
ATTACH;FMTTYPE="image/jpeg":http://storage.ning.com/topology/rest/1.0/
 file/get/2247992407?profile=original
ATTENDEE;ROLE=REQ-PARTICIPANT;PARTSTAT=ACCEPTED;RSVP=TRUE;CN="Editor's
  Pick":https://trueskool.com/profile/RentheVinylArchaeologist
END:VEVENT
END:VCALENDAR
