BEGIN:VCALENDAR
PRODID:NingEventWidget-v1
VERSION:2.0
METHOD:PUBLISH
BEGIN:VTIMEZONE
TZID:America/Los_Angeles
X-LIC-LOCATION:America/Los_Angeles
BEGIN:DAYLIGHT
TZOFFSETFROM:-0800
TZOFFSETTO:-0700
TZNAME:PDT
DTSTART:19700308T020000
RRULE:FREQ=YEARLY;BYMONTH=3;BYDAY=2SU
END:DAYLIGHT
BEGIN:STANDARD
TZOFFSETFROM:-0700
TZOFFSETTO:-0800
TZNAME:PST
DTSTART:19701101T020000
RRULE:FREQ=YEARLY;BYMONTH=11;BYDAY=1SU
END:STANDARD
END:VTIMEZONE
BEGIN:VEVENT
UID:1464587:Event:36880
DTSTAMP:20260421T005740Z
SUMMARY:MOS DEF & ERYKAH BADU + Special Guest Jay Electronica
DESCRIPTION:\nMOS DEF's Ecstatic Tour Presents\nMOS DEF & ERYKAH BADU 
 PERFORMING LIVE!!\n+ Special Guest Jay Electronica\n\n@ the Davies Sym
 phony Hall\n201 Van Ness Ave. SF, CA\nwww.sfsymphony.org\n\nDJ's Big V
 on & Mr.E in the Mix!!\n\nALL AGES\n\nTICKETS GO-ONSALE ON SATURDAY AU
 GUST 1st @ 10AM!!\nwww.livenation.com or www.ticketmaster.com\n\nFor m
 ore information visit https://trueskool.com/events/mos-def-erykah-badu
 -special
DTSTART;TZID=America/Los_Angeles:20090903T193000
DTEND;TZID=America/Los_Angeles:20090904T230000
CATEGORIES:hip, hop, soul, "r&b"
LOCATION:the Davies Symphony Hall, SF
WEBSITE:http://www.livenation.com
URL:http://www.livenation.com
CONTACT:
ORGANIZER:Live Nation
ATTACH;FMTTYPE="image/jpeg":http://storage.ning.com/topology/rest/1.0/
 file/get/2106896796?profile=original
ATTENDEE;ROLE=REQ-PARTICIPANT;PARTSTAT=ACCEPTED;RSVP=TRUE;CN=facilitat
 or1:https://trueskool.com/profile/facilitator1
ATTENDEE;ROLE=REQ-PARTICIPANT;PARTSTAT=ACCEPTED;RSVP=TRUE;CN="Ren the 
 Vinyl Archaeologist":https://trueskool.com/profile/xh51jvilojur
END:VEVENT
END:VCALENDAR
