BEGIN:VCALENDAR
PRODID:NingEventWidget-v1
VERSION:2.0
METHOD:PUBLISH
BEGIN:VTIMEZONE
TZID:America/Los_Angeles
X-LIC-LOCATION:America/Los_Angeles
BEGIN:DAYLIGHT
TZOFFSETFROM:-0800
TZOFFSETTO:-0700
TZNAME:PDT
DTSTART:19700308T020000
RRULE:FREQ=YEARLY;BYMONTH=3;BYDAY=2SU
END:DAYLIGHT
BEGIN:STANDARD
TZOFFSETFROM:-0700
TZOFFSETTO:-0800
TZNAME:PST
DTSTART:19701101T020000
RRULE:FREQ=YEARLY;BYMONTH=11;BYDAY=1SU
END:STANDARD
END:VTIMEZONE
BEGIN:VEVENT
UID:1464587:Event:31293
DTSTAMP:20260421T022142Z
SUMMARY:Mos Def & Dead Prez
DESCRIPTION:\nCome celebrate Ankh Marketing 's 5 Year Anniversary Part
 y!\n\nw/ MOS DEF\n\nPerforming a FULL SET Live!!\n\nAlso featuring spe
 cial guest performances by\ndead prez\n\nand The Bay's own DJ Big Von 
 on the 1s and 2s!!\n\nSunday April 26th\n\n@ Mezzanine\n444 Jesse St. 
 San Francisco\n9PM Doors\n\nGet your tickets now at:\nhttp://going.com
 /ankh5yrmosdef\n\n\n21+\n\nFor more info email : ankhmarketingevents@g
 mail.com\n\nFor more information visit https://trueskool.com/events/mo
 s-def-dead-prez
DTSTART;TZID=America/Los_Angeles:20090426T210000
DTEND;TZID=America/Los_Angeles:20090427T020000
CATEGORIES:hip, hop
LOCATION:Mezzanine
WEBSITE:http://going.com/ankh5yrmosdef
URL:http://going.com/ankh5yrmosdef
CONTACT:
ORGANIZER:Ankh Marketing
ATTACH;FMTTYPE="image/jpeg":http://storage.ning.com/topology/rest/1.0/
 file/get/2059269756?profile=original
ATTENDEE;ROLE=REQ-PARTICIPANT;PARTSTAT=ACCEPTED;RSVP=TRUE;CN=Deanna:ht
 tps://trueskool.com/profile/Deanna
ATTENDEE;ROLE=REQ-PARTICIPANT;PARTSTAT=ACCEPTED;RSVP=TRUE;CN="Ren the 
 Vinyl Archaeologist":https://trueskool.com/profile/xh51jvilojur
END:VEVENT
END:VCALENDAR
