BEGIN:VCALENDAR
PRODID:NingEventWidget-v1
VERSION:2.0
METHOD:PUBLISH
BEGIN:VTIMEZONE
TZID:America/Los_Angeles
X-LIC-LOCATION:America/Los_Angeles
BEGIN:DAYLIGHT
TZOFFSETFROM:-0800
TZOFFSETTO:-0700
TZNAME:PDT
DTSTART:19700308T020000
RRULE:FREQ=YEARLY;BYMONTH=3;BYDAY=2SU
END:DAYLIGHT
BEGIN:STANDARD
TZOFFSETFROM:-0700
TZOFFSETTO:-0800
TZNAME:PST
DTSTART:19701101T020000
RRULE:FREQ=YEARLY;BYMONTH=11;BYDAY=1SU
END:STANDARD
END:VTIMEZONE
BEGIN:VEVENT
UID:1464587:Event:811746
DTSTAMP:20260421T030130Z
SUMMARY:MORCHEEBA
DESCRIPTION:MORCHEEBA with Jesse Mac Cormack\r\nFriday, October 14, 20
 22 Doors: 8:00PM |Show: 9:00PM\r\nTHE REGENCY BALLROOM 1300 Van Ness A
 venue San Francisco, CA 94109\n\nFor more information visit https://tr
 ueskool.com/events/morcheeba-1
DTSTART;TZID=America/Los_Angeles:20221014T210000
DTEND;TZID=America/Los_Angeles:20221014T233000
CATEGORIES:"bay area", oakland, "san francisco", "san jose", berkeley
LOCATION:THE REGENCY BALLROOM, SF
WEBSITE:
URL:
CONTACT:
ORGANIZER;CN="Editor's Pick":https://trueskool.com/profile/RentheVinyl
 Archaeologist
ATTACH;FMTTYPE="image/jpeg":https://storage.ning.com/topology/rest/1.0
 /file/get/10831038896?profile=original
ATTENDEE;ROLE=REQ-PARTICIPANT;PARTSTAT=ACCEPTED;RSVP=TRUE;CN="Editor's
  Pick":https://trueskool.com/profile/RentheVinylArchaeologist
END:VEVENT
END:VCALENDAR
