BEGIN:VCALENDAR
PRODID:NingEventWidget-v1
VERSION:2.0
METHOD:PUBLISH
BEGIN:VTIMEZONE
TZID:America/Los_Angeles
X-LIC-LOCATION:America/Los_Angeles
BEGIN:DAYLIGHT
TZOFFSETFROM:-0800
TZOFFSETTO:-0700
TZNAME:PDT
DTSTART:19700308T020000
RRULE:FREQ=YEARLY;BYMONTH=3;BYDAY=2SU
END:DAYLIGHT
BEGIN:STANDARD
TZOFFSETFROM:-0700
TZOFFSETTO:-0800
TZNAME:PST
DTSTART:19701101T020000
RRULE:FREQ=YEARLY;BYMONTH=11;BYDAY=1SU
END:STANDARD
END:VTIMEZONE
BEGIN:VEVENT
UID:1464587:Event:519368
DTSTAMP:20260421T145108Z
SUMMARY:MOM DJs (of the World Famous Motown on Mondays parties)
DESCRIPTION:\nSATURDAY, JAN 24\nBerkeley Underground presents\nMotown 
 on Mondays DJs\nSoul/Funk/HipHop/Remixes\n \nFeaturing:\nTimoteo Giga
 nte Gordo Cabeza Captain Hat\nAtreau\n \nBerkeley Underground, 2284 S
 hattuck Ave., Berkeley\n21+, 10pm-2am\n$10, FREE B4 11 w/ RSVP at htt
 ps://motownonmondaysdjs.eventbrite.com\n\n\nFor more information visit
  https://trueskool.com/events/mom-djs-of-the-world-famous-motown-on-mo
 ndays-parties
DTSTART;TZID=America/Los_Angeles:20150124T220000
DTEND;TZID=America/Los_Angeles:20150125T020000
CATEGORIES:"bay area", berkeley
LOCATION:Berkeley Underground, Berkeley, CA
WEBSITE:https://motownonmondaysdjs.eventbrite.com
URL:https://motownonmondaysdjs.eventbrite.com
CONTACT:
ORGANIZER:Berkeley Underground
ATTACH;FMTTYPE="image/jpeg":http://storage.ning.com/topology/rest/1.0/
 file/get/2247973341?profile=original
ATTENDEE;ROLE=REQ-PARTICIPANT;PARTSTAT=ACCEPTED;RSVP=TRUE;CN="Editor's
  Pick":https://trueskool.com/profile/RentheVinylArchaeologist
END:VEVENT
END:VCALENDAR
