BEGIN:VCALENDAR
PRODID:NingEventWidget-v1
VERSION:2.0
METHOD:PUBLISH
BEGIN:VTIMEZONE
TZID:America/Los_Angeles
X-LIC-LOCATION:America/Los_Angeles
BEGIN:DAYLIGHT
TZOFFSETFROM:-0800
TZOFFSETTO:-0700
TZNAME:PDT
DTSTART:19700308T020000
RRULE:FREQ=YEARLY;BYMONTH=3;BYDAY=2SU
END:DAYLIGHT
BEGIN:STANDARD
TZOFFSETFROM:-0700
TZOFFSETTO:-0800
TZNAME:PST
DTSTART:19701101T020000
RRULE:FREQ=YEARLY;BYMONTH=11;BYDAY=1SU
END:STANDARD
END:VTIMEZONE
BEGIN:VEVENT
UID:1464587:Event:55158
DTSTAMP:20260420T145126Z
SUMMARY:MIXTURE
DESCRIPTION:APR 30 / 2010 // MIXTURE @ RISQUE LOUNGE / SF.CA\n45 MAIDE
 N LANE // 10P-2A // 21+ // GLIST@SRxMM.COM\n\nFrom 10PM-2AM Audio + Vi
 deo Mixologists From The EXP1985 Camp will be LIVE Video Blending for 
 your Aural and Visual Pleasures. Mixing the sounds of Hip Hop + Soulfu
 l Classics to Reggae, all the way to the 80s. Please be present to par
 take in this new San Francisco institution that we call MIXTURE.\n\nYo
 ur DJs on this journey will be RICH GARCIA + DIGGA + J.CUE.\n\nAlong w
 / Special Guest DJ, TRUESKOOL.COM's own: REN: THE VINYL ARCHAEOLOGIST\
 n\nG.LIST signup would be beneficial: G.LIST LADIES FREE ALL NIGHT + G
 .LIST MEN $5 ALL NIGHT | Regular Cover Charge for Patrons $10. Bottle 
 Service is also available, so please email for inquiry.\n\nDRINK SPECI
 ALS: $5 Well Drinks Before 11PM + $199 Grey Goose or Hennessey VS Bott
 le Service.\n\nDRESS w/ STEEZ. Please NO Sports Attire, Sneakers or Ca
 ps. As GURU [RIP] would say \"YOU KNOW MY STEEEEZ\"\n\nSRxMM 2010 Seas
 on Apparel Goods Will Be Present As Giveaways. So you have to be prese
 nt to partake.\n\nSEE YOU THERE.\n\nhttp://www.fatlace.com/stayfresh/d
 efdiggs\n\n\n\nFor more information visit https://trueskool.com/events
 /mixture-1
DTSTART;TZID=America/Los_Angeles:20100430T220000
DTEND;TZID=America/Los_Angeles:20100501T020000
CATEGORIES:social, hip, hop, "r&b", soul, old, school
LOCATION:Risque Lounge, San Francisco, CA
WEBSITE:http://www.fatlace.com/stayfresh/defdiggs
URL:http://www.fatlace.com/stayfresh/defdiggs
CONTACT:
ORGANIZER:EXP1985
ATTACH;FMTTYPE="image/jpeg":http://storage.ning.com/topology/rest/1.0/
 file/get/2247877215?profile=original
ATTENDEE;ROLE=REQ-PARTICIPANT;PARTSTAT=ACCEPTED;RSVP=TRUE;CN="KMOS ONE
 ":https://trueskool.com/profile/KMOSONE
END:VEVENT
END:VCALENDAR
