BEGIN:VCALENDAR
PRODID:NingEventWidget-v1
VERSION:2.0
METHOD:PUBLISH
BEGIN:VTIMEZONE
TZID:America/Los_Angeles
X-LIC-LOCATION:America/Los_Angeles
BEGIN:DAYLIGHT
TZOFFSETFROM:-0800
TZOFFSETTO:-0700
TZNAME:PDT
DTSTART:19700308T020000
RRULE:FREQ=YEARLY;BYMONTH=3;BYDAY=2SU
END:DAYLIGHT
BEGIN:STANDARD
TZOFFSETFROM:-0700
TZOFFSETTO:-0800
TZNAME:PST
DTSTART:19701101T020000
RRULE:FREQ=YEARLY;BYMONTH=11;BYDAY=1SU
END:STANDARD
END:VTIMEZONE
BEGIN:VEVENT
UID:1464587:Event:64630
DTSTAMP:20260420T180745Z
SUMMARY:MIXTAPE Wednesdays
DESCRIPTION:MIXTAPE WEDNESDAY\nDropping the old school, hip-hop, funk,
  soul, reggae & latest beats are your faithful resident rockers on 2 T
 URNTABLES AND A MICROPHONE:\nSTRATEGY\nJUNOT\nHERB DIGS\n+ special gue
 sts\n\nFor more information visit https://trueskool.com/events/mixtape
 -wednesdays
DTSTART;TZID=America/Los_Angeles:20100825T220000
DTEND;TZID=America/Los_Angeles:20100826T020000
CATEGORIES:san, francisco, ca
LOCATION:The Skylark, San Francisco, CA
WEBSITE:http://mixtapemarketing.com
URL:http://mixtapemarketing.com
CONTACT:
ORGANIZER;CN="MIXTAPE Marketing":https://trueskool.com/profile/MIXTAPE
 Marketing
ATTACH;FMTTYPE="image/jpeg":http://storage.ning.com/topology/rest/1.0/
 file/get/2247882810?profile=original
ATTENDEE;ROLE=REQ-PARTICIPANT;PARTSTAT=ACCEPTED;RSVP=TRUE;CN="MIXTAPE 
 Marketing":https://trueskool.com/profile/MIXTAPEMarketing
END:VEVENT
END:VCALENDAR
