BEGIN:VCALENDAR
PRODID:NingEventWidget-v1
VERSION:2.0
METHOD:PUBLISH
BEGIN:VTIMEZONE
TZID:America/Los_Angeles
X-LIC-LOCATION:America/Los_Angeles
BEGIN:DAYLIGHT
TZOFFSETFROM:-0800
TZOFFSETTO:-0700
TZNAME:PDT
DTSTART:19700308T020000
RRULE:FREQ=YEARLY;BYMONTH=3;BYDAY=2SU
END:DAYLIGHT
BEGIN:STANDARD
TZOFFSETFROM:-0700
TZOFFSETTO:-0800
TZNAME:PST
DTSTART:19701101T020000
RRULE:FREQ=YEARLY;BYMONTH=11;BYDAY=1SU
END:STANDARD
END:VTIMEZONE
BEGIN:VEVENT
UID:1464587:Event:301505
DTSTAMP:20260420T211950Z
SUMMARY:MISERY INDEX - Free Comedy & Cheap Drinks
DESCRIPTION:MISERY INDEX\nMonday, February 3rd @ 8:00pm\nThe Rite Spot
  (2099 Folsom @ 17th)\n3 blocks from 16th & Mission BART\nNO COVER!\n
 www.miseryindexcomedy.com\n\nLet’s face it. Things aren’t going gr
 eat: a bad economy, a horrible job market, never ending wars, exorbita
 nt rent prices, dysfunctional relationships, mental illness, addiction
 , poverty, corruption, STDs, Rihanna. While there isn’t a cure for a
 ll of life’s problems, there is a tonic… \nMISERY INDEX is a free
 , monthly show that brings together some of the most pessimistic, neur
 otic & dysfunctional individuals on the face of the planet: stand-up c
 omedians. Take the edge off with cheap drinks and free laughs as these
  choleric comics direct their disdain towards all of society’s growi
 ng ills.\n\nFebruary’s lineup features maladjusted mirth makers: \n
 Janine Brito (Totally Biased)\nScott Capurro (BBC, Guardian UK)\nJim T
 ews (Just For Laughs Fest)\nRed Scott (SF Sketchfest)\nJabari Davis (C
 omedy Store, Carolines)\nJuan Medina (SF Punchline)\nAlfonso Portela (
 Sacramento Comedy Fest)\nHosted by Trevor Hill (Great American Comed
 y Fest)\n\nEvery First Monday of the Month!\n\n The Rite Spot is a coz
 y Mission dive that features local bands, comedians and performers. A 
 rare San Francisco luxury set in an unpretentious atmosphere featuring
  Italian-American food, a full bar and an excellent wine list. “Asid
 e from a little low conversation and the occasional clink of a glass, 
 people are there to listen, and what they’re listening to is top-not
 ch.” -SF Weekly\n\nFor more information visit https://trueskool.com/
 events/misery-index-free-comedy-cheap-drinks-7
DTSTART;TZID=America/Los_Angeles:20140203T200000
DTEND;TZID=America/Los_Angeles:20140203T213000
CATEGORIES:san, francisco
LOCATION:The Rite Spot
WEBSITE:http://miseryindexcomedy.com
URL:http://miseryindexcomedy.com
CONTACT:415.552.6066
ORGANIZER;CN="Trevor Hill":https://trueskool.com/profile/TrevorHill
ATTACH;FMTTYPE="image/jpeg":http://storage.ning.com/topology/rest/1.0/
 file/get/2247956899?profile=original
ATTENDEE;ROLE=REQ-PARTICIPANT;PARTSTAT=ACCEPTED;RSVP=TRUE;CN="Trevor H
 ill":https://trueskool.com/profile/TrevorHill
END:VEVENT
END:VCALENDAR
