BEGIN:VCALENDAR
PRODID:NingEventWidget-v1
VERSION:2.0
METHOD:PUBLISH
BEGIN:VTIMEZONE
TZID:America/Los_Angeles
X-LIC-LOCATION:America/Los_Angeles
BEGIN:DAYLIGHT
TZOFFSETFROM:-0800
TZOFFSETTO:-0700
TZNAME:PDT
DTSTART:19700308T020000
RRULE:FREQ=YEARLY;BYMONTH=3;BYDAY=2SU
END:DAYLIGHT
BEGIN:STANDARD
TZOFFSETFROM:-0700
TZOFFSETTO:-0800
TZNAME:PST
DTSTART:19701101T020000
RRULE:FREQ=YEARLY;BYMONTH=11;BYDAY=1SU
END:STANDARD
END:VTIMEZONE
BEGIN:VEVENT
UID:1464587:Event:314549
DTSTAMP:20260421T004104Z
SUMMARY:Mint Condition (Atlanta)
DESCRIPTION:\nMint Condition\n\n\n\nCenter Stage Theatre Atlanta, GA
 \n\nThu, 03/13/14 08:30 PM\n\nFind Tickets »\n\n\n\n\n\nFor more inf
 ormation visit https://trueskool.com/events/mint-condition-atlanta
DTSTART;TZID=America/Los_Angeles:20140313T203000
DTEND;TZID=America/Los_Angeles:20140314T230000
CATEGORIES:atlanta
LOCATION:Center Stage Theatre, Atlanta
WEBSITE:http://www.ticketmaster.com/mint-condition-atlanta-georgia-03-
 13-2014/event/0E004C36BFAE4AF6?artistid=867970&majorcatid=10001&minorc
 atid=202&tm_link=artist_msg-0_0E004C36BFAE4AF6
URL:http://www.ticketmaster.com/mint-condition-atlanta-georgia-03-13-2
 014/event/0E004C36BFAE4AF6?artistid=867970&majorcatid=10001&minorcatid
 =202&tm_link=artist_msg-0_0E004C36BFAE4AF6
CONTACT:
ORGANIZER;CN="Editor's Pick":https://trueskool.com/profile/RentheVinyl
 Archaeologist
ATTACH;FMTTYPE="image/jpeg":http://storage.ning.com/topology/rest/1.0/
 file/get/2247957046?profile=original
ATTENDEE;ROLE=REQ-PARTICIPANT;PARTSTAT=ACCEPTED;RSVP=TRUE;CN="Editor's
  Pick":https://trueskool.com/profile/RentheVinylArchaeologist
END:VEVENT
END:VCALENDAR
