BEGIN:VCALENDAR
PRODID:NingEventWidget-v1
VERSION:2.0
METHOD:PUBLISH
BEGIN:VTIMEZONE
TZID:America/Los_Angeles
X-LIC-LOCATION:America/Los_Angeles
BEGIN:DAYLIGHT
TZOFFSETFROM:-0800
TZOFFSETTO:-0700
TZNAME:PDT
DTSTART:19700308T020000
RRULE:FREQ=YEARLY;BYMONTH=3;BYDAY=2SU
END:DAYLIGHT
BEGIN:STANDARD
TZOFFSETFROM:-0700
TZOFFSETTO:-0800
TZNAME:PST
DTSTART:19701101T020000
RRULE:FREQ=YEARLY;BYMONTH=11;BYDAY=1SU
END:STANDARD
END:VTIMEZONE
BEGIN:VEVENT
UID:1464587:Event:647078
DTSTAMP:20260421T111916Z
SUMMARY:MINT CONDITION
DESCRIPTION:\nMINT CONDITION\n\nFriday Jun 3, 2016\nDoors: 7:30 PM S
 how: 8:00 PM\n$46 - $125\n\nFriday Jun 3, 2016Doors: 9:45 PM Show: 1
 0:00 PM\n$46 - $125\n\nSaturday Jun 4, 2016Doors: 7:00 PM Show: 7:30
  PM\n$49 - $125\n\nSaturday Jun 4, 2016Doors: 9:15 PM Show: 9:30 PM\
 n$49 - $125\n\nSunday Jun 5, 2016Doors: 6:30 PM Show: 7:00 PM\n$46 -
  $125\n\n\n\n\n\nFor more information visit https://trueskool.com/even
 ts/mint-condition-1
DTSTART;TZID=America/Los_Angeles:20160603T180000
DTEND;TZID=America/Los_Angeles:20160605T230000
CATEGORIES:"san francisco", oakland, berkley, "san jose", "bay area"
LOCATION:Yoshi's, Oakland
WEBSITE:http://www.yoshis.com/search/?q=MINT%20CONDITION
URL:http://www.yoshis.com/search/?q=MINT%20CONDITION
CONTACT:
ORGANIZER;CN="Editor's Pick":https://trueskool.com/profile/RentheVinyl
 Archaeologist
ATTACH;FMTTYPE="image/jpeg":http://storage.ning.com/topology/rest/1.0/
 file/get/2247987773?profile=original
ATTENDEE;ROLE=REQ-PARTICIPANT;PARTSTAT=ACCEPTED;RSVP=TRUE;CN="Editor's
  Pick":https://trueskool.com/profile/RentheVinylArchaeologist
END:VEVENT
END:VCALENDAR
