BEGIN:VCALENDAR
PRODID:NingEventWidget-v1
VERSION:2.0
METHOD:PUBLISH
BEGIN:VTIMEZONE
TZID:America/Los_Angeles
X-LIC-LOCATION:America/Los_Angeles
BEGIN:DAYLIGHT
TZOFFSETFROM:-0800
TZOFFSETTO:-0700
TZNAME:PDT
DTSTART:19700308T020000
RRULE:FREQ=YEARLY;BYMONTH=3;BYDAY=2SU
END:DAYLIGHT
BEGIN:STANDARD
TZOFFSETFROM:-0700
TZOFFSETTO:-0800
TZNAME:PST
DTSTART:19701101T020000
RRULE:FREQ=YEARLY;BYMONTH=11;BYDAY=1SU
END:STANDARD
END:VTIMEZONE
BEGIN:VEVENT
UID:1464587:Event:41504
DTSTAMP:20260421T203350Z
SUMMARY:Mind Power Collective 2nd Sunday Salon
DESCRIPTION:Please join us for a participatory dialogue around develop
 ing meaningful connections of educators to move forward in sustainable
  solidarity during this time of potential and possibility. How can we 
 build better relationships with each other and retain space for self r
 eflection, while dealing within the broken system in partnership with 
 our young folks? How can we find time to continue exploration our own 
 personal identities, creativity and culture? And balance a sustainable
 , healthy, conscious life, too?!?\n\nJoin us if you've been asking you
 rself any of these questions and want to talk with folks who are seeki
 ng solutions, too...\n\nFor more information visit https://trueskool.c
 om/events/mind-power-collective-2nd
DTSTART;TZID=America/Los_Angeles:20091011T150000
DTEND;TZID=America/Los_Angeles:20091011T170000
CATEGORIES:hip, hop, educators
LOCATION:La Pena Cultural Center, Berkeley, CA
WEBSITE:http://www.lapena.org
URL:http://www.lapena.org
CONTACT:510-847-7990
ORGANIZER:Mind Power Collective
ATTACH;FMTTYPE="image/jpeg":
ATTENDEE;ROLE=REQ-PARTICIPANT;PARTSTAT=ACCEPTED;RSVP=TRUE;CN=Jayeesha:
 https://trueskool.com/profile/Jayeesha
END:VEVENT
END:VCALENDAR
