BEGIN:VCALENDAR
PRODID:NingEventWidget-v1
VERSION:2.0
METHOD:PUBLISH
BEGIN:VTIMEZONE
TZID:America/Los_Angeles
X-LIC-LOCATION:America/Los_Angeles
BEGIN:DAYLIGHT
TZOFFSETFROM:-0800
TZOFFSETTO:-0700
TZNAME:PDT
DTSTART:19700308T020000
RRULE:FREQ=YEARLY;BYMONTH=3;BYDAY=2SU
END:DAYLIGHT
BEGIN:STANDARD
TZOFFSETFROM:-0700
TZOFFSETTO:-0800
TZNAME:PST
DTSTART:19701101T020000
RRULE:FREQ=YEARLY;BYMONTH=11;BYDAY=1SU
END:STANDARD
END:VTIMEZONE
BEGIN:VEVENT
UID:1464587:Event:292365
DTSTAMP:20260420T213544Z
SUMMARY:Mind & Body NightLife | Music by DJ Qbert
DESCRIPTION:Immerse yourself in cerebral science this week as NightLif
 e gets inside your head.  In the planetarium, join a guided meditation
  led by neuroscience guru Dr. Philippe Goldin of Stanford University a
 nd get a closer perspective on human brains (even your own!) with a sp
 ecial fulldome audiovisual presentation at 6:30, 7:30 and 8:30 pm.  An
 d because NightLife knows that music feeds the mind, catch a special s
 et by turntable master and hip hop pioneer DJ QBert. Hailed as one of 
 the most prolific DJs of all time, DJ Qbert’s Extraterrestria (Thud 
 Rumble), his first album release in 17 years, transcends the boundarie
 s of turntablism and features the likes of Kool Keith and Chad Hugo (N
 .E.R.D.), among others.  In African Hall, get your zen on with a yoga 
 workshop taught by Integral Yoga Institute and pick up tips on the the
 rapeutic benefits of holistic nutrition with tea tastings hosted by Ba
 uman College.  Plus, hear medicinal plant expert Tellur Fenner discuss
  edible and medicinal plants found along the California Coast and what
  their healing powers mean for us.  Use your brain to power the sights
  and sounds of NeuroDisco, a mind-controlled music, light and sculptur
 e installation.  21+ Event. ID required for entry.  Tickets & Details 
 here: http://bit.ly/cas-nl  Connect With Us! Like us on Facebook: htt
 p://www.facebook.com/calacademy-nightlife Follow us on Twitter: @calac
 ademy_nl Follow us on Instagram: @calacademy #CASNightLife Follow us o
 n Do415: http://do415.com/Nightlife  NightLife takes place Thursday n
 ights (6-10pm) at the California Academy of Sciences. Music, Creatures
  and Cocktails. 21+\n\n\nFor more information visit https://trueskool.
 com/events/mind-body-nightlife-music-by-dj-qbert
DTSTART;TZID=America/Los_Angeles:20140116T180000
DTEND;TZID=America/Los_Angeles:20140116T220000
CATEGORIES:"dj qbert", nightlife, "california academy of sciences", "g
 olden gate park", "san francisco"
LOCATION:NightLife at the California Academy of Sciences - San Francis
 co, CA
WEBSITE:https://ticketing.calacademy.org/webstore/shop/ViewItems.aspx?
 CG=NIGHTLIFE&C=NIGHTLIFE
URL:https://ticketing.calacademy.org/webstore/shop/ViewItems.aspx?CG=N
 IGHTLIFE&C=NIGHTLIFE
CONTACT:
ORGANIZER:California Academy of Sciences and Thud Rumble Ltd.
ATTACH;FMTTYPE="image/jpeg":http://storage.ning.com/topology/rest/1.0/
 file/get/2247956178?profile=original
ATTENDEE;ROLE=REQ-PARTICIPANT;PARTSTAT=ACCEPTED;RSVP=TRUE;CN="Nancy La
 ws":https://trueskool.com/profile/NancyLaws
ATTENDEE;ROLE=REQ-PARTICIPANT;PARTSTAT=ACCEPTED;RSVP=TRUE;CN=iNBiTuiN:
 https://trueskool.com/profile/iNBiTuiN
ATTENDEE;ROLE=REQ-PARTICIPANT;PARTSTAT=ACCEPTED;RSVP=TRUE;CN="m.deep.m
 usic":https://trueskool.com/profile/mdeepmusic
END:VEVENT
END:VCALENDAR
