BEGIN:VCALENDAR
PRODID:NingEventWidget-v1
VERSION:2.0
METHOD:PUBLISH
BEGIN:VTIMEZONE
TZID:America/Los_Angeles
X-LIC-LOCATION:America/Los_Angeles
BEGIN:DAYLIGHT
TZOFFSETFROM:-0800
TZOFFSETTO:-0700
TZNAME:PDT
DTSTART:19700308T020000
RRULE:FREQ=YEARLY;BYMONTH=3;BYDAY=2SU
END:DAYLIGHT
BEGIN:STANDARD
TZOFFSETFROM:-0700
TZOFFSETTO:-0800
TZNAME:PST
DTSTART:19701101T020000
RRULE:FREQ=YEARLY;BYMONTH=11;BYDAY=1SU
END:STANDARD
END:VTIMEZONE
BEGIN:VEVENT
UID:1464587:Event:42939
DTSTAMP:20260420T193525Z
SUMMARY:Mims (Win Tickets)
DESCRIPTION:WIN A PAIR OF TICKETS. Send your FULL NAME to trueskoolcon
 test@gmail.com with \"Mims\" in the Subject Line. Winner will be drawn
  randomly and announced by 12pm on 11/12.\n\n\nTHURSDAY, NOVEMBER 12\n
 Bonafide Sound proudly presents\nMIMS\nThis Thurs night for all the SR
 JC/SSU homies! Hosted by the NAK Gamma Chapter of SSU & The Boys of Bo
 nifide Sound!! Make sure you arrive early cause space is limited!! Ful
 l bar & Drink Specials for the 21+!! Security in Full Effect & Dressco
 de Strictly Enforced!! Performing his hits: This is why I'm Hot, Like 
 This, Move, & MORE!!!\n\nWith Special Guests\nSkatterman, Snugg Brimm 
 & The DB'z\nDj Amen (106KMEL) & Dj Mini Mex in the mix!\n\n@ Casbar Ni
 ght Club (Inside Days Inn), 3345 Santa Rosa Ave., Santa Rosa\nPresale 
 Tix available online for only $20!\nBuy Tickets\n\nMims- This is Why I
 'm Hot\nMH | MySpace Video\n\nFor more information visit https://trues
 kool.com/events/mims-win-tickets
DTSTART;TZID=America/Los_Angeles:20091112T200000
DTEND;TZID=America/Los_Angeles:20091112T230000
CATEGORIES:hip, hop
LOCATION:Casbar Night Club (Inside Days Inn), Santa Rosa
WEBSITE:http://www.inticketing.com/events/58475
URL:http://www.inticketing.com/events/58475
CONTACT:
ORGANIZER:Bonafide Sound
ATTACH;FMTTYPE="image/jpeg":http://storage.ning.com/topology/rest/1.0/
 file/get/2247871057?profile=original
ATTENDEE;ROLE=REQ-PARTICIPANT;PARTSTAT=ACCEPTED;RSVP=TRUE;CN="Ren the 
 Vinyl Archaeologist":https://trueskool.com/profile/xh51jvilojur
END:VEVENT
END:VCALENDAR
