BEGIN:VCALENDAR
PRODID:NingEventWidget-v1
VERSION:2.0
METHOD:PUBLISH
BEGIN:VTIMEZONE
TZID:America/Los_Angeles
X-LIC-LOCATION:America/Los_Angeles
BEGIN:DAYLIGHT
TZOFFSETFROM:-0800
TZOFFSETTO:-0700
TZNAME:PDT
DTSTART:19700308T020000
RRULE:FREQ=YEARLY;BYMONTH=3;BYDAY=2SU
END:DAYLIGHT
BEGIN:STANDARD
TZOFFSETFROM:-0700
TZOFFSETTO:-0800
TZNAME:PST
DTSTART:19701101T020000
RRULE:FREQ=YEARLY;BYMONTH=11;BYDAY=1SU
END:STANDARD
END:VTIMEZONE
BEGIN:VEVENT
UID:1464587:Event:61847
DTSTAMP:20260419T080830Z
SUMMARY:MILLION STYLEZ w/ 7th St
DESCRIPTION:\nWednesday, July 21st, 2010\nMILLION STYLEZ\nw/ 7th St\n+
  SISTA IRAE DEVINE\n\"Break Free\" \"I Am Guilty\" \"How Can We\"\n\n+
  Reggae / Dancehall / Remixes w/\nI&I VIBRATION (Beatnok & Mr Lucky)\n
 \nKenshin Iryo, aka Million Stylez, was born on the first of June 1981
  in Stockholm, Sweden. He is half japanese and half French. In that wa
 y he says he can feel and relate to people from all over. In the summe
 r of 2005 Million Stylez went to the finals in \"Big Break\" arranged 
 by Irie FM (Jamaicas nr 1 radiostation) and Red Stripe; an annual tale
 nt competition for upcoming artists in Jamaica with more than 1,200 ta
 lented applicants. After live shows (in St. Elizabeth, Montego Bay and
  Kingston) and TV and radio interviews, he ended up in an honorable fo
 urth place. He was also the only non-Jamaican that had ever participat
 ed in the competition. 2006 March 1st saw the release of his first sin
 gle, \"Miss Fatty,\" through German distributor Soundquake, and was th
 eir number one selling tune during a long period of time. \"Miss Fatty
 \" was also recieved very well by radio stations like Hot97, Shade 45 
 (Eminem's sattelite radio) BBC1Xtra, Kiss FM, NRJ, Voice, etc. and had
  been the number one track on Trace TV/radio that covers over 50 count
 ries and opened up all the doors for him careerwise. The second, third
 , and fourth singles (Brighter Day, Fade Away and Give me the strength
 ) are more conscious because he feels that it is very much needed in t
 his time we are living in today. The video for \"Give Me the Strength\
 " is currently being played in heavy rotation on TV channels like ZTV.
  Million Stylez released his debut album \"From A Far\" in 2007 on KBC
  Music, and it includes everything from roots reggae, dancehall, and h
 ip hop, to some R& B-influenced songs; there is even a \"crunkhall\" r
 emix hidden track (produced by Nordic Steel). Most of the tunes contai
 n conscious lyrics about his gratitude to God the almighty, life strug
 gle, celebration, love and hate, war and peace, and generally about al
 l the issues concerning all mankind. His earlier releases have all bee
 n spinning in high rotation on Scandinavian networks such as MTV, ZTV,
  Voice TV, Voice, Enerj, P3, P5 and also on Jamaican networks as RETV,
  Hype TV, and Music+, among others. Just to mention few of the artists
  that Million has worked with, there are big stars like Beyoncé, Loon
 , Smif N Wessun (Gangsters Prayer), Mr Vegas (Beat Drop pt2), Bunji Ga
 rlin (King of socca), Loogaman (Dutty cup), Alozade (JA), J-Ro (Tha Al
 coholics), and two of Swedens biggest and most respected rappers such 
 as Promoe (Loop Troop Rockers) and Ken Ring. He has also opened for ar
 tists including Sean Paul, Beenie Man, Elephant Man, Ne-Yo, Fabolous, 
 Nina Sky, Ryan Leslie, Fatman Scoop, Wayne Wonder, Mr Vegas, TOK, Anth
 ony B, Ward 21, Alozade, Zumjay, and more. We can also add to the list
  that he has recorded a whole heap of dubplates for big soundsystems a
 nd selectors like David Rodigan (Britains biggest and most known selec
 tor), Mighty Crown (world clash champions from japan), Massive B (Hot 
 97) who also released millions track \"Call His Name\" on their riddim
  \"No Borders\", Sentinel (former world champions), Robbo Ranx and Sil
 ver Star(BBC 1extra) plus many, many more. Million is, at the moment, 
 working on promoting his new album (EVERYDAY) while touring all around
  the world.What more is it to say, Million have million tings a gwaan.
  Check out his latest releases w/ Don Carlos, Busy Signal, Gappy Ranks
 , Joey Fever and many more…\n\n@ ROCKIT ROOM, 406 Clement St (@ 5th 
 Ave)\nSan Francisco, CA 94118\n(415) 387-6343\n$15 Adv Online /// $20 
 @ The Door /// 21+\nTix Available Online @ http://millionstylezsf.even
 tbrite.com/\nInfo: ivibesound@gmail.com\n\nFor more information visit 
 https://trueskool.com/events/million-stylez-w-7th-st
DTSTART;TZID=America/Los_Angeles:20100721T220000
DTEND;TZID=America/Los_Angeles:20100722T020000
CATEGORIES:reggae, dancehall
LOCATION:Rock It Room, San Francisco
WEBSITE:http://millionstylezsf.eventbrite.com/
URL:http://millionstylezsf.eventbrite.com/
CONTACT:
ORGANIZER:I&I VIBRATION
ATTACH;FMTTYPE="image/jpeg":http://storage.ning.com/topology/rest/1.0/
 file/get/2247881731?profile=original
ATTENDEE;ROLE=REQ-PARTICIPANT;PARTSTAT=ACCEPTED;RSVP=TRUE;CN="Ren the 
 Vinyl Archaeologist":https://trueskool.com/profile/xh51jvilojur
END:VEVENT
END:VCALENDAR
