BEGIN:VCALENDAR
PRODID:NingEventWidget-v1
VERSION:2.0
METHOD:PUBLISH
BEGIN:VTIMEZONE
TZID:America/Los_Angeles
X-LIC-LOCATION:America/Los_Angeles
BEGIN:DAYLIGHT
TZOFFSETFROM:-0800
TZOFFSETTO:-0700
TZNAME:PDT
DTSTART:19700308T020000
RRULE:FREQ=YEARLY;BYMONTH=3;BYDAY=2SU
END:DAYLIGHT
BEGIN:STANDARD
TZOFFSETFROM:-0700
TZOFFSETTO:-0800
TZNAME:PST
DTSTART:19701101T020000
RRULE:FREQ=YEARLY;BYMONTH=11;BYDAY=1SU
END:STANDARD
END:VTIMEZONE
BEGIN:VEVENT
UID:1464587:Event:26258
DTSTAMP:20260423T113908Z
SUMMARY:Miles Outside in Santa Cruz
DESCRIPTION:Free Show with Miles Outside at the Catalyst (Atrium). See
  their website for all the details and bands.\n\nFor more information 
 visit https://trueskool.com/events/miles-outside-in-santa-cruz
DTSTART;TZID=America/Los_Angeles:20090207T210000
DTEND;TZID=America/Los_Angeles:20090208T020000
CATEGORIES:hip, hop, funk, soul, rock
LOCATION:The Catalyst (Atrium)
WEBSITE:http://www.myspace.com/milesoutside
URL:http://www.myspace.com/milesoutside
CONTACT:
ORGANIZER:Catalyst
ATTACH;FMTTYPE="image/jpeg":http://storage.ning.com/topology/rest/1.0/
 file/get/2247854636?profile=original
ATTENDEE;ROLE=REQ-PARTICIPANT;PARTSTAT=ACCEPTED;RSVP=TRUE;CN="Paulie R
 hyme":https://trueskool.com/profile/PaulieRhyme
END:VEVENT
END:VCALENDAR
