BEGIN:VCALENDAR
PRODID:NingEventWidget-v1
VERSION:2.0
METHOD:PUBLISH
BEGIN:VTIMEZONE
TZID:America/Los_Angeles
X-LIC-LOCATION:America/Los_Angeles
BEGIN:DAYLIGHT
TZOFFSETFROM:-0800
TZOFFSETTO:-0700
TZNAME:PDT
DTSTART:19700308T020000
RRULE:FREQ=YEARLY;BYMONTH=3;BYDAY=2SU
END:DAYLIGHT
BEGIN:STANDARD
TZOFFSETFROM:-0700
TZOFFSETTO:-0800
TZNAME:PST
DTSTART:19701101T020000
RRULE:FREQ=YEARLY;BYMONTH=11;BYDAY=1SU
END:STANDARD
END:VTIMEZONE
BEGIN:VEVENT
UID:1464587:Event:211120
DTSTAMP:20260421T085715Z
SUMMARY:Mike Stud: The Relief Tour w/DJ MTK & Kurt
DESCRIPTION:The legend of Mike Stud dates back to his days growing up 
 as one of Rhode Island's greatest baseball players of all time. As a h
 ighly touted high school senior, he was named Rhode Island's 2006 Gato
 rade Player of the Year, received Louisville Slugger Player of the Yea
 r honors, and won a full athletic scholarship to Duke University. Stud
  was selected as an All-American and now holds the lowest ERA in Duke 
 baseball history after only his freshman season. After the promising s
 tart to Stud's collegiate baseball career, however, Tommy John surgery
  put him on the sidelines. Suddenly, making music became an outlet for
  him to pass the time. After only a few public releases of self-compos
 ed songs, he began to get notable recognition for his rhyming ability 
 and was encouraged to continue.\nAfter graduating Duke, Stud transferr
 ed to Georgetown to continue his studies as a graduate student and to 
 continue his attempt at regaining full strength on the mound. Needless
  to say, he also continued working on music in his down time. Fast for
 ward 14 months, and Stud is now one of the hottest upcoming musicians 
 on the web. His rookie mixtape A Toast to Tommy, released last October
 , debuted at No. 3 and No. 2 on the worldwide and US iTunes Hip-Hop Al
 bums charts. He has since headlined a sold-out 20-city national tour a
 nd has acquired nearly 10 million YouTube views. His versatility and f
 un, upbeat style has transformed Stud into a truly viral artist. With 
 each new release, he is constantly showing the world that he's about t
 o take it over.\n\nFor more information visit https://trueskool.com/ev
 ents/mike-stud-the-relief-tour-w-dj-mtk-kurt
DTSTART;TZID=America/Los_Angeles:20130816T183000
DTEND;TZID=America/Los_Angeles:20130816T230000
CATEGORIES:"bay area", "east bay", oakland, ca, "northern ca", "live m
 usic", "hip hop", rap
LOCATION:The New Parish, Oakland CA
WEBSITE:
URL:
CONTACT:5103508896
ORGANIZER;CN="Dyanna Loeb":https://trueskool.com/profile/DyannaLoeb
ATTACH;FMTTYPE="image/jpeg":http://storage.ning.com/topology/rest/1.0/
 file/get/2247942488?profile=original
ATTENDEE;ROLE=REQ-PARTICIPANT;PARTSTAT=ACCEPTED;RSVP=TRUE;CN="Dyanna L
 oeb":https://trueskool.com/profile/DyannaLoeb
END:VEVENT
END:VCALENDAR
