BEGIN:VCALENDAR
PRODID:NingEventWidget-v1
VERSION:2.0
METHOD:PUBLISH
BEGIN:VTIMEZONE
TZID:America/Los_Angeles
X-LIC-LOCATION:America/Los_Angeles
BEGIN:DAYLIGHT
TZOFFSETFROM:-0800
TZOFFSETTO:-0700
TZNAME:PDT
DTSTART:19700308T020000
RRULE:FREQ=YEARLY;BYMONTH=3;BYDAY=2SU
END:DAYLIGHT
BEGIN:STANDARD
TZOFFSETFROM:-0700
TZOFFSETTO:-0800
TZNAME:PST
DTSTART:19701101T020000
RRULE:FREQ=YEARLY;BYMONTH=11;BYDAY=1SU
END:STANDARD
END:VTIMEZONE
BEGIN:VEVENT
UID:1464587:Event:155244
DTSTAMP:20260421T182232Z
SUMMARY:Mike Relm's Ghetto Blaster
DESCRIPTION:\n\n\nSan Francisco's MIKE RELM is best known for his audi
 o and video mash-ups, in his live concerts and broadcast work. Part di
 rector, part electronic music producer, Relm has introduced the world 
 to a style that truly echoes the fever-pitched pace of modern entertai
 nment while paying homage to classic filmmakers and musicians.\n\n\nFo
 r more information visit https://trueskool.com/events/mike-relm-s-ghet
 to-blaster
DTSTART;TZID=America/Los_Angeles:20130125T210000
DTEND;TZID=America/Los_Angeles:20130125T230000
CATEGORIES:"bay area", "san francisco", oakland
LOCATION:The Independent. San Francisco
WEBSITE:http://www.ticketfly.com/purchase/event/185705?utm_medium=bks&
 wrKey=94EF937B557A54647D4B5F24F38731F8
URL:http://www.ticketfly.com/purchase/event/185705?utm_medium=bks&wrKe
 y=94EF937B557A54647D4B5F24F38731F8
CONTACT:
ORGANIZER;CN="Editor's Pick":https://trueskool.com/profile/RentheVinyl
 Archaeologist
ATTACH;FMTTYPE="image/jpeg":http://storage.ning.com/topology/rest/1.0/
 file/get/2247842624?profile=original
ATTENDEE;ROLE=REQ-PARTICIPANT;PARTSTAT=ACCEPTED;RSVP=TRUE;CN="Editor's
  Pick":https://trueskool.com/profile/RentheVinylArchaeologist
END:VEVENT
END:VCALENDAR
