BEGIN:VCALENDAR
PRODID:NingEventWidget-v1
VERSION:2.0
METHOD:PUBLISH
BEGIN:VTIMEZONE
TZID:America/Los_Angeles
X-LIC-LOCATION:America/Los_Angeles
BEGIN:DAYLIGHT
TZOFFSETFROM:-0800
TZOFFSETTO:-0700
TZNAME:PDT
DTSTART:19700308T020000
RRULE:FREQ=YEARLY;BYMONTH=3;BYDAY=2SU
END:DAYLIGHT
BEGIN:STANDARD
TZOFFSETFROM:-0700
TZOFFSETTO:-0800
TZNAME:PST
DTSTART:19701101T020000
RRULE:FREQ=YEARLY;BYMONTH=11;BYDAY=1SU
END:STANDARD
END:VTIMEZONE
BEGIN:VEVENT
UID:1464587:Event:63403
DTSTAMP:20260421T065615Z
SUMMARY:Mike Posner
DESCRIPTION:Karmaloop.com Presents\nMike Posner\nUp In The Air Tour\n\
 nThe Fillmore\n1805 Geary Boulevard, San Francisco, CA 94115\n07:00 PM
 \nBuy Tickets\n\nFor more information visit https://trueskool.com/even
 ts/mike-posner
DTSTART;TZID=America/Los_Angeles:20100916T190000
DTEND;TZID=America/Los_Angeles:20100916T230000
CATEGORIES:fillmore, san, francisco, ca
LOCATION:Fillmore, San Francisco, CA
WEBSITE:http://www.ticketmaster.com/partner_redirect?v=UwS59Y9SZgcp2gX
 ICtpjXiiYbg_4jdNm1MiRES0D6nhV0fLh_1AwV4ulpDe2nvyuoPYazZSNSta1G6J_JMrB0
 TaPZuJR8AXarNGDKfxhPp0JwLz5M-jaQtt9PpummHo&eventid=1C0044F1E9624D0B&ar
 tistid=1429177&artistname=Karmaloop.com%20Presents%20Mike%20Posner%20U
 p%20In%20The%20Air%20Tour&crosssite=TM_US:1429177:229424
URL:http://www.ticketmaster.com/partner_redirect?v=UwS59Y9SZgcp2gXICtp
 jXiiYbg_4jdNm1MiRES0D6nhV0fLh_1AwV4ulpDe2nvyuoPYazZSNSta1G6J_JMrB0TaPZ
 uJR8AXarNGDKfxhPp0JwLz5M-jaQtt9PpummHo&eventid=1C0044F1E9624D0B&artist
 id=1429177&artistname=Karmaloop.com%20Presents%20Mike%20Posner%20Up%20
 In%20The%20Air%20Tour&crosssite=TM_US:1429177:229424
CONTACT:
ORGANIZER:Karmaloop.com
ATTACH;FMTTYPE="image/jpeg":http://storage.ning.com/topology/rest/1.0/
 file/get/2247898664?profile=original
ATTENDEE;ROLE=REQ-PARTICIPANT;PARTSTAT=ACCEPTED;RSVP=TRUE;CN="caramel 
 queen":https://trueskool.com/profile/caramelqueen
ATTENDEE;ROLE=REQ-PARTICIPANT;PARTSTAT=ACCEPTED;RSVP=TRUE;CN="Ren the 
 Vinyl Archaeologist":https://trueskool.com/profile/xh51jvilojur
END:VEVENT
END:VCALENDAR
