BEGIN:VCALENDAR
PRODID:NingEventWidget-v1
VERSION:2.0
METHOD:PUBLISH
BEGIN:VTIMEZONE
TZID:America/Los_Angeles
X-LIC-LOCATION:America/Los_Angeles
BEGIN:DAYLIGHT
TZOFFSETFROM:-0800
TZOFFSETTO:-0700
TZNAME:PDT
DTSTART:19700308T020000
RRULE:FREQ=YEARLY;BYMONTH=3;BYDAY=2SU
END:DAYLIGHT
BEGIN:STANDARD
TZOFFSETFROM:-0700
TZOFFSETTO:-0800
TZNAME:PST
DTSTART:19701101T020000
RRULE:FREQ=YEARLY;BYMONTH=11;BYDAY=1SU
END:STANDARD
END:VTIMEZONE
BEGIN:VEVENT
UID:1464587:Event:315020
DTSTAMP:20260421T073119Z
SUMMARY:Mighty Real 3 Year Anniversary & Moulton Music Showcase
DESCRIPTION:Saturday, March 15th, 2014 marks the 3 year anniversary of
  Mighty Real. Mighty Real is a collaboration between the equally amazi
 ng Mighty SF and beloved Bay Area DJ, David Harness. Together, they ha
 ve put on some of the best nights for soulful, uplifting and high leve
 l house music. Over the years they have hosted a who's who of internat
 ional house music DJ's and producers. Mighty and Harness have created 
 a community of open hearted people to share their love of dance, quali
 ty house music and a connection with each other. Connection is what Mi
 ghty Real is about. Anyone who has been to any of the shows can tell y
 ou that they've \"lived\", \"KiKi\", get \"Lifted\", \"soul clapped\",
  and sweated until they are \"turned out\". I have witnessed it myself
 . Mighty Real represents all that is beautiful and historic about this
  music we call house. \n\nFor more information visit https://trueskoo
 l.com/events/mighty-real-3-year-anniversary-moulton-music-showcase
DTSTART;TZID=America/Los_Angeles:20140315T220000
DTEND;TZID=America/Los_Angeles:20140316T030000
CATEGORIES:san, francisco, california
LOCATION:Mighty, San Francisco
WEBSITE:http://www.eventbrite.com/e/mighty-real-3-year-anniversary-mou
 lton-music-showcase-tickets-10679411407?aff=eorg
URL:http://www.eventbrite.com/e/mighty-real-3-year-anniversary-moulton
 -music-showcase-tickets-10679411407?aff=eorg
CONTACT:
ORGANIZER:Mighty
ATTACH;FMTTYPE="image/jpeg":http://storage.ning.com/topology/rest/1.0/
 file/get/2247957961?profile=original
ATTENDEE;ROLE=REQ-PARTICIPANT;PARTSTAT=ACCEPTED;RSVP=TRUE;CN="Alexandr
 a Alden":https://trueskool.com/profile/AlexandraAlden
END:VEVENT
END:VCALENDAR
