BEGIN:VCALENDAR
PRODID:NingEventWidget-v1
VERSION:2.0
METHOD:PUBLISH
BEGIN:VTIMEZONE
TZID:America/Los_Angeles
X-LIC-LOCATION:America/Los_Angeles
BEGIN:DAYLIGHT
TZOFFSETFROM:-0800
TZOFFSETTO:-0700
TZNAME:PDT
DTSTART:19700308T020000
RRULE:FREQ=YEARLY;BYMONTH=3;BYDAY=2SU
END:DAYLIGHT
BEGIN:STANDARD
TZOFFSETFROM:-0700
TZOFFSETTO:-0800
TZNAME:PST
DTSTART:19701101T020000
RRULE:FREQ=YEARLY;BYMONTH=11;BYDAY=1SU
END:STANDARD
END:VTIMEZONE
BEGIN:VEVENT
UID:1464587:Event:262066
DTSTAMP:20260421T051325Z
SUMMARY:Mighty Presents VISIONQUEST 10 Year Anniversary with  Lee Curt
 iss, Ryan Crosson, and Shaun Reeves
DESCRIPTION:\n\nEarly bird tickets only $20!!http://visionquestatmight
 y-es2.eventbrite.com/Mighty is turning 10 years old and for the kickof
 f event of our 10 year anniversary series, we present an incredible ni
 ght of music with VISIONQUEST's Lee Curtiss, Ryan Crosson, and Shaun R
 eeves, with opening set by DJ Rooz (Deep Blue), and Jonathan Will (Pin
 k Mammoth).Visionquest is a new generation of young, talented producer
 s from Detroit who draw influence from all who have come before them, 
 following in their footsteps, while defining a unique sound of their o
 wn. Here you have three of the 4 DJs (4th being Seth Troxler) who have
  grown up organizing parties and DJing in the city and around the worl
 d for the last ten years. Their attention is firmly focused on the dee
 per soul of quality electronic music, driven by emotion and developed 
 from their very different musical backgrounds. Visionquest have their 
 roots in Motown, draw ambitious spiritual vibes from forerunners like 
 Theo Parrish and Moodyman, deliver the quality of sound and attitude o
 f a best selling Minus record rounded off with the dreamy, otherworldl
 y vibe of the Spectral sound.Visionquest are… Ryan Crosson, Shaun Re
 eves and Lee Curtiss, the most innovative and exciting new breed of DJ
 /producers to come out of the city of Detroit in a generation. Last ye
 ar their remix of Kiki’s ‘Good Voodoo’ on BPitch Control was one
  of the summer’s biggest underground hits and together they have rel
 eased tracks on leading labels like Crosstown Rebels, Spectral Sound, 
 Get Physical, Circus Company, Supplement Facts, Wolf+Lamb, Wagon Repai
 r and Minus. Both individually and together they play regularly at clu
 bs the world over like Fabric (London), Watergate (Berlin), Cityfox (Z
 urich), Tenax (Florence), Fiesta Privada (Rome), Cocoon (Frankfurt) an
 d Circoloco@Dc10 (Ibiza) as well as holding their weekly ‘Soulshower
 ’ residency at Club Der Visonaere in Berlin. Their Visionquest party
  at the Old Miami at this year’s Detroit Electronic Music Festival b
 rought together many of the scene’s freshest talent in a spirit of f
 riendship, fun and radical progression, much needed in a scene so easy
  to stagnate.Mighty is 21+ for all events. All tickets are non-refunda
 ble and non-transferable.Visionquest on Soundcloud-https://soundcloud.
 com/visionquest-recordshttps://soundcloud.com/leecurtisshttps://soundc
 loud.com/ryancrosson\n\n\n\n\nFor more information visit https://trues
 kool.com/events/mighty-presents-visionquest-10-year-anniversary-with-l
 ee-curtiss
DTSTART;TZID=America/Los_Angeles:20131206T210000
DTEND;TZID=America/Los_Angeles:20131207T023000
CATEGORIES:san, francisco, bay, area
LOCATION:Mighty, San Francisco, CA
WEBSITE:http://visionquestatmighty-es2.eventbrite.com/
URL:http://visionquestatmighty-es2.eventbrite.com/
CONTACT:
ORGANIZER:Mighty
ATTACH;FMTTYPE="image/jpeg":http://storage.ning.com/topology/rest/1.0/
 file/get/2247950934?profile=original
ATTENDEE;ROLE=REQ-PARTICIPANT;PARTSTAT=ACCEPTED;RSVP=TRUE;CN="Alexandr
 a Alden":https://trueskool.com/profile/AlexandraAlden
END:VEVENT
END:VCALENDAR
