BEGIN:VCALENDAR
PRODID:NingEventWidget-v1
VERSION:2.0
METHOD:PUBLISH
BEGIN:VTIMEZONE
TZID:America/Los_Angeles
X-LIC-LOCATION:America/Los_Angeles
BEGIN:DAYLIGHT
TZOFFSETFROM:-0800
TZOFFSETTO:-0700
TZNAME:PDT
DTSTART:19700308T020000
RRULE:FREQ=YEARLY;BYMONTH=3;BYDAY=2SU
END:DAYLIGHT
BEGIN:STANDARD
TZOFFSETFROM:-0700
TZOFFSETTO:-0800
TZNAME:PST
DTSTART:19701101T020000
RRULE:FREQ=YEARLY;BYMONTH=11;BYDAY=1SU
END:STANDARD
END:VTIMEZONE
BEGIN:VEVENT
UID:1464587:Event:390182
DTSTAMP:20260421T020637Z
SUMMARY:Mighty presents The Get Down with Shortkut & Mr.Choc
DESCRIPTION:\nOn July 25th, Mighty presents a musical triple threat of
  House, Boogie, and Funk with 'The Get Down'. \n\nBeats provided by t
 he always magnificent DJ Shortkut + Beat Junkie Mr Choc. Hosted by Fra
 n Boogie + Mixcrate.\n\n• OPEN BAR from 9pm - 10pm •\n\nFREE befor
 e 11pm with RSVP at: \nhttp://getdown.eventbrite.com/\n\nNo other DJ 
 in the world will ever be a member of the three most innovative and in
 fluential DJ crews to ever exist. As a member of the Invisibl Skratch 
 Piklz, Beat Junkies and Triple Threat DJs, Shortkut’s contributions 
 to the DJ world greatly assisted in building this culture into the mul
 ti-million dollar industry it is today.  His years of musical experie
 nce and unparalleled presence in the national and international circui
 ts exemplifies his passion and dedication to a culture he helped creat
 e.\n\nAmong other accomplishments, Choc's lively hosting gigs at Los A
 ngeles hotspots, which include Resident Fridays at Little Temple, The 
 Bridge and NightLife, and Rock The Bells festivals, have made him a na
 tional draw for clubs, tours, and events such as, DJ for The Pussycat 
 Dolls, Dilated People's Evidence, 50 cent Get Rich or Die Trying Album
  release party, Wyclef's 2007 Grammy party, A Tribe Called QuestÕs 20
 05 reunion, Jamie Foxx's 2004 Super Bowl Party, America's Best Dance C
 rew finale 2009 & 2010, George Lopez's red carpet event for the Lopez 
 Show, J. Dilla's Nightlife tribute, Roc Raida's Nightlife tribute, 201
 1 Critics Choice Awards after party.\n\nFor more information visit htt
 ps://trueskool.com/events/mighty-presents-the-get-down-with-shortkut-m
 r-choc
DTSTART;TZID=America/Los_Angeles:20140725T210000
DTEND;TZID=America/Los_Angeles:20140726T030000
CATEGORIES:san, francisco, mighty
LOCATION:Mighty, San Francisco
WEBSITE:http://www.eventbrite.com/e/the-get-down-w-djs-shortkut-mr-cho
 c-fri-725-free-w-rsvp-tickets-12229993239
URL:http://www.eventbrite.com/e/the-get-down-w-djs-shortkut-mr-choc-fr
 i-725-free-w-rsvp-tickets-12229993239
CONTACT:
ORGANIZER:Mighty
ATTACH;FMTTYPE="image/jpeg":http://storage.ning.com/topology/rest/1.0/
 file/get/2247963912?profile=original
ATTENDEE;ROLE=REQ-PARTICIPANT;PARTSTAT=ACCEPTED;RSVP=TRUE;CN="Jess Die
 u":https://trueskool.com/profile/JessDieu
END:VEVENT
END:VCALENDAR
