BEGIN:VCALENDAR
PRODID:NingEventWidget-v1
VERSION:2.0
METHOD:PUBLISH
BEGIN:VTIMEZONE
TZID:America/Los_Angeles
X-LIC-LOCATION:America/Los_Angeles
BEGIN:DAYLIGHT
TZOFFSETFROM:-0800
TZOFFSETTO:-0700
TZNAME:PDT
DTSTART:19700308T020000
RRULE:FREQ=YEARLY;BYMONTH=3;BYDAY=2SU
END:DAYLIGHT
BEGIN:STANDARD
TZOFFSETFROM:-0700
TZOFFSETTO:-0800
TZNAME:PST
DTSTART:19701101T020000
RRULE:FREQ=YEARLY;BYMONTH=11;BYDAY=1SU
END:STANDARD
END:VTIMEZONE
BEGIN:VEVENT
UID:1464587:Event:36780
DTSTAMP:20260420T213204Z
SUMMARY:MIGHTY presents KRADDY w/ Ana Sia & MOZAIC
DESCRIPTION:FRIDAY 8.21 | 10PM | $5 b4 11pm, $10 ALL NITE AFTER\n\nMig
 hty is proud to present a showcase of the West Coast future sound move
 ment featuring Kraddy, support will come from none other than close fr
 iends ANA SIA and Mozaic. Doors are at 10pm. Cover is just $5 before 1
 1pm and $10 all nite after.\n\nCiting creative differences both Kraddy
  and the Glitch Mob decided it was best to part ways and support each 
 other as friends and in their creative endeavors as musicians. Kraddy
 s music implicates cybernetic breaks with asymmetrical dub delays an
 d hip hop grooves with dark ethereal melodies. At times his music is t
 echnical and frenetic and calls to mind images of genetically mutated 
 earthworms, poping and locking deep underground to sub atomic frequenc
 ies, causing minute shifts in the structure and alignment of the tecto
 nic plates, that over millennia will alter the magnetic core of the pl
 anet and thus change its frequency field steering its evolution toward
 s greater harmony and a more peaceful form.\n\nOther times he weaves t
 ogether webs of moody etheresque clouds akin to the sounds of alternat
 e life forces manipulating hydrogen and carbon molecules into biomecha
 nical nanobots that imperceptibly permeate the neuronets of sleeping s
 ubjects from light years away in a methodical attempt to preserve and 
 record the neural, synaptic and chemical makeup of all matter.\n\nAna 
 Sia’s love of electronic music combined with an innate understanding
  of the value of dance to the human soul collectively fuse to create u
 nforgettable sets of experience, whether she is slamming spots in her 
 hometown of San Francisco or taking her turn in the forests of music f
 estivals around the country.\n\nAna’s energetic delivery of brain-fa
 zing beats has earned the Princess Slay-ah an important spot in pionee
 ring the West Coast future sound movement. She will take you on a musi
 cal expedition into the deepest reaches of your brain, as she masterfu
 lly blends a wide spectrum of rhythms with a beautiful fluidity and a 
 delicate sensibility, giving the dance floor a delightful ride that en
 ds at the corner of bliss and oblivion.\n\nUniting the best elements o
 f dirty dubstep, grimy glitch, and her personalized blend of “global
  slut psy-hop,” Ana Sia’s sets confirm crunk status of all who dar
 e enter into her seamless world of sound.\n\nOn any given weekend, if 
 Mozaic's not behind the decks (he played over 100 gigs during 2008), y
 ou'll likely find him on the dancefloor, which is what makes the 10-ye
 ar veteran a dancer's DJ. Mozaic has built a reputation on solid mixin
 g and fearless genre-hopping: tech-house, techno, broken beat, 2-step,
  midtempo and dub all find their way into his arsenal- sometimes withi
 n a single set. Recently, you also may have seen/heard Mozaic's collab
 oration with EPROM, Hookerz & Blow; they've been laying waste to dance
 floors up and down the West Coast with their live dj/laptop sets, and 
 had recent remixes rinsed by everyone from Basement Jaxx to Jesse Rose
  to Annie Mac (on her May 2008 Essential Mix).\n\n\n\nwww.mighty119.co
 m\nwww.myspace.com/kraddy\nwww.myspace.com/anasiamusic\nwww.myspace.co
 m/mozaicmusic\n\nFor more information visit https://trueskool.com/even
 ts/mighty-presents-kraddy-w-ana
DTSTART;TZID=America/Los_Angeles:20090821T220000
DTEND;TZID=America/Los_Angeles:20090822T030000
CATEGORIES:hip, hop, reggae, glitch
LOCATION:MIGHTY, San Francisco
WEBSITE:http://www.mighty119.com
URL:http://www.mighty119.com
CONTACT:
ORGANIZER;CN="Carey Kopp":https://trueskool.com/profile/k85
ATTACH;FMTTYPE="image/jpeg":http://storage.ning.com/topology/rest/1.0/
 file/get/2247861011?profile=original
ATTENDEE;ROLE=REQ-PARTICIPANT;PARTSTAT=ACCEPTED;RSVP=TRUE;CN="Carey Ko
 pp":https://trueskool.com/profile/k85
END:VEVENT
END:VCALENDAR
