BEGIN:VCALENDAR
PRODID:NingEventWidget-v1
VERSION:2.0
METHOD:PUBLISH
BEGIN:VTIMEZONE
TZID:America/Los_Angeles
X-LIC-LOCATION:America/Los_Angeles
BEGIN:DAYLIGHT
TZOFFSETFROM:-0800
TZOFFSETTO:-0700
TZNAME:PDT
DTSTART:19700308T020000
RRULE:FREQ=YEARLY;BYMONTH=3;BYDAY=2SU
END:DAYLIGHT
BEGIN:STANDARD
TZOFFSETFROM:-0700
TZOFFSETTO:-0800
TZNAME:PST
DTSTART:19701101T020000
RRULE:FREQ=YEARLY;BYMONTH=11;BYDAY=1SU
END:STANDARD
END:VTIMEZONE
BEGIN:VEVENT
UID:1464587:Event:291689
DTSTAMP:20260420T213203Z
SUMMARY:Mighty Presents David Harness - ALL NIGHT
DESCRIPTION:\n\nJoin us for an all night deep house party with David H
 arness!FREE BEFORE MIDNIGHT WITH RSVP http://harnessallnight.eventbri
 te.com/David Harness is one of the most popular DJ/producers in the Sa
 n Francisco Bay Area club scene. He has been described as ‘a man who
  lives, breathes and emanates everything that is beautiful about deep 
 house music and classic garage.’ David is considered a ‘rising sta
 r’ within the dance community.\n\n\n\n\n\n\n\n\n\n\n\n\n\n\n\n\n\n\n
 \nFor more information visit https://trueskool.com/events/mighty-prese
 nts-david-harness-all-night
DTSTART;TZID=America/Los_Angeles:20140117T220000
DTEND;TZID=America/Los_Angeles:20140118T030000
CATEGORIES:mighty, san, francisco
LOCATION:Mighty, San Francisco, CA
WEBSITE:http://harnessallnight.eventbrite.com/
URL:http://harnessallnight.eventbrite.com/
CONTACT:
ORGANIZER:Mighty SF
ATTACH;FMTTYPE="image/jpeg":http://storage.ning.com/topology/rest/1.0/
 file/get/2247956665?profile=original
ATTENDEE;ROLE=REQ-PARTICIPANT;PARTSTAT=ACCEPTED;RSVP=TRUE;CN="Alexandr
 a Alden":https://trueskool.com/profile/AlexandraAlden
END:VEVENT
END:VCALENDAR
