BEGIN:VCALENDAR
PRODID:NingEventWidget-v1
VERSION:2.0
METHOD:PUBLISH
BEGIN:VTIMEZONE
TZID:America/Los_Angeles
X-LIC-LOCATION:America/Los_Angeles
BEGIN:DAYLIGHT
TZOFFSETFROM:-0800
TZOFFSETTO:-0700
TZNAME:PDT
DTSTART:19700308T020000
RRULE:FREQ=YEARLY;BYMONTH=3;BYDAY=2SU
END:DAYLIGHT
BEGIN:STANDARD
TZOFFSETFROM:-0700
TZOFFSETTO:-0800
TZNAME:PST
DTSTART:19701101T020000
RRULE:FREQ=YEARLY;BYMONTH=11;BYDAY=1SU
END:STANDARD
END:VTIMEZONE
BEGIN:VEVENT
UID:1464587:Event:356726
DTSTAMP:20260420T163754Z
SUMMARY:Mighty presents “Classics” with DJ Jazzy Jeff | Shortkut |
  Mr. E
DESCRIPTION:MIGHTY is proud to present another installment of the Magn
 ificent DJ JAZZY JEFF w/ Mighty resident DJ SHORTKUT - Hosted by SKILL
 Z & FRAN BOOGIE - Friday May 30th, 2014. Opening set by Mr. E - Papalo
 te HiFi.    In March of 2012, Mighty was the first to pair Jeff w/ Sh
 ortkut - and since they've played multiple gigs in San Francisco & mos
 t recently Manila. \nALL EVENTS AT MIGHTY ARE 21+.   support from:  V
 inyl Destination | Beat Junkies | Papalote HiFi | Personal Touch | Mix
 crate http://www.djjazzyjeff.com/ http://djshortkut.com/ http://mixcra
 te.com/ http://vimeo.com/45588858\n\nFor more information visit https:
 //trueskool.com/events/mighty-presents-classics-with-dj-jazzy-jeff-sho
 rtkut-mr-e
DTSTART;TZID=America/Los_Angeles:20140530T210000
DTEND;TZID=America/Los_Angeles:20140531T030000
CATEGORIES:san, francisco
LOCATION:Mighty, San Francisco
WEBSITE:https://www.eventbrite.com/e/dj-jazzy-jeff-w-shortkut-mr-e-530
 14-tickets-11095846977
URL:https://www.eventbrite.com/e/dj-jazzy-jeff-w-shortkut-mr-e-53014-t
 ickets-11095846977
CONTACT:
ORGANIZER:Mighty
ATTACH;FMTTYPE="image/jpeg":http://storage.ning.com/topology/rest/1.0/
 file/get/2247962235?profile=original
ATTENDEE;ROLE=REQ-PARTICIPANT;PARTSTAT=ACCEPTED;RSVP=TRUE;CN="Jess Die
 u":https://trueskool.com/profile/JessDieu
ATTENDEE;ROLE=REQ-PARTICIPANT;PARTSTAT=ACCEPTED;RSVP=TRUE;CN=brianclim
 :https://trueskool.com/profile/brianclim
END:VEVENT
END:VCALENDAR
