BEGIN:VCALENDAR
PRODID:NingEventWidget-v1
VERSION:2.0
METHOD:PUBLISH
BEGIN:VTIMEZONE
TZID:America/Los_Angeles
X-LIC-LOCATION:America/Los_Angeles
BEGIN:DAYLIGHT
TZOFFSETFROM:-0800
TZOFFSETTO:-0700
TZNAME:PDT
DTSTART:19700308T020000
RRULE:FREQ=YEARLY;BYMONTH=3;BYDAY=2SU
END:DAYLIGHT
BEGIN:STANDARD
TZOFFSETFROM:-0700
TZOFFSETTO:-0800
TZNAME:PST
DTSTART:19701101T020000
RRULE:FREQ=YEARLY;BYMONTH=11;BYDAY=1SU
END:STANDARD
END:VTIMEZONE
BEGIN:VEVENT
UID:1464587:Event:42318
DTSTAMP:20260421T033014Z
SUMMARY:Mighty & OM Records Present the SF Premiere DJ T (Get Physical
 /Berlin)
DESCRIPTION:$8 Early bird presales here:\nhttp://djt.eventbrite.com/\n
 \nMighty and OM Records present a very special night featuring the SF 
 premier of the legendary DJ T. As of late, Dj T is the name on everyon
 e’s lips. It doesn’t come as a surprise since he’s everyone’s 
 favorite German. You might have admired his work as a publisher for Gr
 oove Magazine since 1989, the zine about the electro life-style, or yo
 u may have appreciated his earlier club operating at the Monza in 1999
 . Or you might also listen to and enjoy the successful artists produce
 d under his label Get Physical (M.A.N.D.Y., Heidi, Booka Shade, Audiof
 ly)\n\nToday, the Dj T adventure continues as a new page is turned. We
  are celebrating his 40 years as he embarks on his Inner Jukebox tour,
  promoting his latest album, co-produced with Thomas Schumacher, compr
 ised of fresh new beats. Four years after the release of his debut alb
 um, Boogie Playground, the Inner Jukebox answers to the anticipation o
 f his loyal fans. It’s not just about club tracks; it’s also about
  re-visiting classics, and telling a story about electronic dance musi
 c and its succession. The Inner Jukebox focuses on real, bold, energet
 ic house, steering away from the glorified mainstream that pollutes da
 nce-floors everywhere. It’s not a concept album, just the good stuff
 ! Quality dance music that could only be brought to us by Dj T. He cla
 ims Inner Jukebox is his most mature work, and we are looking forward 
 to seeing this new facet of our beloved dj.\n\nSupport will come from 
 Om Records DJ Fluid, [KONTROL]'s Sammy D, and Deep Blue's DJ Rooz.\n\n
 The evening kicks off with a free vodka Red Bull bar from 9pm-10pm. Do
 n't miss this rare opportunity to see a true genius at work!\n\nRead m
 ore about this genius here:\n\nfacebook: http://www.facebook.com/pages
 /DJ-T/29116824284?ref=ts\nbeatportal: http://www.beatportal.com/tags/t
 ag/dj+t+blog/\n\nFor more information visit https://trueskool.com/even
 ts/mighty-om-records-present-the
DTSTART;TZID=America/Los_Angeles:20091113T210000
DTEND;TZID=America/Los_Angeles:20091114T040000
CATEGORIES:electro, house
LOCATION:MIGHTY, San Francisco
WEBSITE:http://www.mighty119.com
URL:http://www.mighty119.com
CONTACT:
ORGANIZER;CN="Carey Kopp":https://trueskool.com/profile/k85
ATTACH;FMTTYPE="image/jpeg":http://storage.ning.com/topology/rest/1.0/
 file/get/2247868931?profile=original
ATTENDEE;ROLE=REQ-PARTICIPANT;PARTSTAT=ACCEPTED;RSVP=TRUE;CN="Carey Ko
 pp":https://trueskool.com/profile/k85
END:VEVENT
END:VCALENDAR
