BEGIN:VCALENDAR
PRODID:NingEventWidget-v1
VERSION:2.0
METHOD:PUBLISH
BEGIN:VTIMEZONE
TZID:America/Los_Angeles
X-LIC-LOCATION:America/Los_Angeles
BEGIN:DAYLIGHT
TZOFFSETFROM:-0800
TZOFFSETTO:-0700
TZNAME:PDT
DTSTART:19700308T020000
RRULE:FREQ=YEARLY;BYMONTH=3;BYDAY=2SU
END:DAYLIGHT
BEGIN:STANDARD
TZOFFSETFROM:-0700
TZOFFSETTO:-0800
TZNAME:PST
DTSTART:19701101T020000
RRULE:FREQ=YEARLY;BYMONTH=11;BYDAY=1SU
END:STANDARD
END:VTIMEZONE
BEGIN:VEVENT
UID:1464587:Event:262070
DTSTAMP:20260421T093933Z
SUMMARY:Mighty & Face Present Mighty's 10 Year Anniversary with 2manyd
 js (DJ Set)
DESCRIPTION:On Saturday, December 7th, Face and Mighty are proud as pa
 rt of Mighty's 10 year anniversary celebration to present an exclusive
  Bay Area DJ set by 2mandjs (Soulwax). Support from dj EUG (Face/Publi
 c Release). In times where moms give their sons and daughters DJ-cour
 ses for their birthdays and bootlegging has become an Olympic sport, i
 t is nice to see a record that sets a new standard in the genre of mix
 -albums: ‘2 Many DJ’s’ from Belgian groove-gurus Soulwax.Fans of
  quality left-of-centre rock music will know Soulwax from their highly
  acclaimed album ‘Much Against Everyone’s Advice’, which made it
  into the British Top 40 and got rave responses in Japan and Australia
 . But there’s much more to the two brothers than meets the eye. Apar
 t from being chairman of the Belgian Carpenters Association (Stephen) 
 and having a black belt in tae kwon do (David), they are also masters 
 in blending the finest products of music history together into a catch
 y, hilarious and -above all- intriguing groove exploration. From polit
 ically incorrect prog-rock to funky r&b, from trendy hiptrop to bangin
 g German techno, ja: if it gets a booty going, the Dewaele brothers ha
 ve it in their record collection. Blending beautiful tunes is far fro
 m new for the Soulwax brothers. Back in the dark days of 1999, David a
 nd Stephen started a DJ-show on Belgian national radio, called ‘Hang
  The DJ’, where they did exactly that. Years before bootlegging reac
 hed the trendy pages of The Face, they were already making their own m
 ixes for inclusion on the show. Inspired by the philosophy of one Gran
 dmaster Flash, they cut together the best bits of funky tracks into an
  even funkier mix. It was then that classic mixes of Blackstreet with 
 Grandmaster Flash, Beck with Prodigy and Beastie Boys vs. Herbie Hanco
 ck with INXS vs. AC/DC saw the light of day. Praise the Lord.After hav
 ing wooed Belgian and Dutch crowds for a few years with these eclectic
  sets, they went on to impress the most cynical part of the world, the
  London scene, a loud yet harmless species. The British capital, where
  approximately 67% of the population (including 17% of women over 65) 
 owns two decks and a mixer, is used to a thing or two, but Stephen and
  David immediately raised quite a few eyebrows with sparkling sets for
  London’s independent radio station Xfm, national institution BBC Ra
 dio 1 and appearances at the renowned Trash nights in London and Arthu
 r Baker’s Sunday Sessions in The Elbow Room.Impact on the trendomete
 r: a fat 9.5. “When we played our first set for Xfm”, says David, 
 “several club owners phoned up during the transmission to ask us to 
 come and play their venues.” And when an (unnamed) DJ played Soulwax
 ’s classic bootleg mix of Skee-Lo’s ‘I Wish’, Survivor’s ‘
 Eye Of The Tiger’ and The Breeders’ ‘Cannonball’ at a London c
 lub night and pretended he was mixing it himself, it became official: 
 Soulwax was hot property. Even Jarvis Cocker showed his appreciation f
 or their skills and none other than über-producer Felix Da Housecat i
 nvited the brothers to collaborate on his new project: a girlband call
 ed Glamarama. You gotta believe it…\n\nFor more information visit ht
 tps://trueskool.com/events/mighty-face-present-mighty-s-10-year-annive
 rsary-with-2manydjs-dj
DTSTART;TZID=America/Los_Angeles:20131207T210000
DTEND;TZID=America/Los_Angeles:20131208T023000
CATEGORIES:san, francisco, ca
LOCATION:San Francisco, CA
WEBSITE:http://2manydjsatmighty-es2.eventbrite.com/
URL:http://2manydjsatmighty-es2.eventbrite.com/
CONTACT:
ORGANIZER:Mighty
ATTACH;FMTTYPE="image/jpeg":http://storage.ning.com/topology/rest/1.0/
 file/get/2247951010?profile=original
ATTENDEE;ROLE=REQ-PARTICIPANT;PARTSTAT=ACCEPTED;RSVP=TRUE;CN="Alexandr
 a Alden":https://trueskool.com/profile/AlexandraAlden
END:VEVENT
END:VCALENDAR
