BEGIN:VCALENDAR
PRODID:NingEventWidget-v1
VERSION:2.0
METHOD:PUBLISH
BEGIN:VTIMEZONE
TZID:America/Los_Angeles
X-LIC-LOCATION:America/Los_Angeles
BEGIN:DAYLIGHT
TZOFFSETFROM:-0800
TZOFFSETTO:-0700
TZNAME:PDT
DTSTART:19700308T020000
RRULE:FREQ=YEARLY;BYMONTH=3;BYDAY=2SU
END:DAYLIGHT
BEGIN:STANDARD
TZOFFSETFROM:-0700
TZOFFSETTO:-0800
TZNAME:PST
DTSTART:19701101T020000
RRULE:FREQ=YEARLY;BYMONTH=11;BYDAY=1SU
END:STANDARD
END:VTIMEZONE
BEGIN:VEVENT
UID:1464587:Event:71509
DTSTAMP:20260420T224937Z
SUMMARY:Mighty Diamonds
DESCRIPTION:\nThe Mighty Diamonds\nDecember 02, 2010\n\nYoshi's San Fr
 ancisco\n1330 Fillmore Street\nSan Francisco, CA 94115\nPhone: 415.655
 .5600\n10:30PM Show: $16 adv/ $22 at the door\n» BUY TICKETS\n \n\nFo
 r more information visit https://trueskool.com/events/mighty-diamonds-
 1
DTSTART;TZID=America/Los_Angeles:20101202T180000
DTEND;TZID=America/Los_Angeles:20101203T190000
CATEGORIES:san, francisco, ca
LOCATION:San Francisco, CA
WEBSITE:http://sfyoshis2.inticketing.com/evlist.php?events=search&sear
 chstr=mighty+diamonds
URL:http://sfyoshis2.inticketing.com/evlist.php?events=search&searchst
 r=mighty+diamonds
CONTACT:
ORGANIZER:Yoshi's Jazz Club and Japanese Restaurant
ATTACH;FMTTYPE="image/jpeg":http://storage.ning.com/topology/rest/1.0/
 file/get/2247882506?profile=original
ATTENDEE;ROLE=REQ-PARTICIPANT;PARTSTAT=ACCEPTED;RSVP=TRUE;CN="Editor's
  Pick":https://trueskool.com/profile/RentheVinylArchaeologist
END:VEVENT
END:VCALENDAR
