BEGIN:VCALENDAR
PRODID:NingEventWidget-v1
VERSION:2.0
METHOD:PUBLISH
BEGIN:VTIMEZONE
TZID:America/Los_Angeles
X-LIC-LOCATION:America/Los_Angeles
BEGIN:DAYLIGHT
TZOFFSETFROM:-0800
TZOFFSETTO:-0700
TZNAME:PDT
DTSTART:19700308T020000
RRULE:FREQ=YEARLY;BYMONTH=3;BYDAY=2SU
END:DAYLIGHT
BEGIN:STANDARD
TZOFFSETFROM:-0700
TZOFFSETTO:-0800
TZNAME:PST
DTSTART:19701101T020000
RRULE:FREQ=YEARLY;BYMONTH=11;BYDAY=1SU
END:STANDARD
END:VTIMEZONE
BEGIN:VEVENT
UID:1464587:Event:283029
DTSTAMP:20260421T054150Z
SUMMARY:MIGHTY 10 Year Anniversary w/ Triple Threat DJs -  FREE b4 Mid
 night w/ RSVP
DESCRIPTION: FRIDAY, DEC 20 MIGHTY 10 Year Anniversary\n\nFeaturing: T
 riple Threat DJs\nApollo, Shortkut & Vinroc\n\nHosted by Fran Boogie\n
 \nOPEN BAR FIRST HOUR (9-10PM)\n@ Mighty, 119 Utah St., SF  Free befor
 e midnight w/ RSVP @  http://mighty10year.eventbrite.com/\n\nFor more 
 information visit https://trueskool.com/events/mighty-10-year-annivers
 ary-w-triple-threat-djs-free-b4-midnight-w
DTSTART;TZID=America/Los_Angeles:20131220T220000
DTEND;TZID=America/Los_Angeles:20131221T020000
CATEGORIES:"bay area", "san francisco"
LOCATION:Mighty, San Francisco
WEBSITE:http://mighty10year.eventbrite.com
URL:http://mighty10year.eventbrite.com
CONTACT:
ORGANIZER:Mighty
ATTACH;FMTTYPE="image/jpeg":http://storage.ning.com/topology/rest/1.0/
 file/get/2247954792?profile=original
ATTENDEE;ROLE=REQ-PARTICIPANT;PARTSTAT=ACCEPTED;RSVP=TRUE;CN="Sarah - 
 Reggae Gyals":https://trueskool.com/profile/SarahReggaeGyals
ATTENDEE;ROLE=REQ-PARTICIPANT;PARTSTAT=ACCEPTED;RSVP=TRUE;CN="Nancy La
 ws":https://trueskool.com/profile/NancyLaws
ATTENDEE;ROLE=REQ-PARTICIPANT;PARTSTAT=ACCEPTED;RSVP=TRUE;CN="Staff Pi
 ck":https://trueskool.com/profile/Ren
END:VEVENT
END:VCALENDAR
