BEGIN:VCALENDAR
PRODID:NingEventWidget-v1
VERSION:2.0
METHOD:PUBLISH
BEGIN:VTIMEZONE
TZID:America/Los_Angeles
X-LIC-LOCATION:America/Los_Angeles
BEGIN:DAYLIGHT
TZOFFSETFROM:-0800
TZOFFSETTO:-0700
TZNAME:PDT
DTSTART:19700308T020000
RRULE:FREQ=YEARLY;BYMONTH=3;BYDAY=2SU
END:DAYLIGHT
BEGIN:STANDARD
TZOFFSETFROM:-0700
TZOFFSETTO:-0800
TZNAME:PST
DTSTART:19701101T020000
RRULE:FREQ=YEARLY;BYMONTH=11;BYDAY=1SU
END:STANDARD
END:VTIMEZONE
BEGIN:VEVENT
UID:1464587:Event:30176
DTSTAMP:20260421T004235Z
SUMMARY:Midival Punditz with Karsh Kale
DESCRIPTION:Mighty is pleased to host Midival Punditz for an exclusive
  appearance to promote the upcoming release \"Hello Hello\". On this a
 lbum the Midival Punditz marry Indian raga, Bollywood pop, and regiona
 l folk dance rhythms to several decades of Western dance music, with e
 choes of everything from Bhangra to rock music to Daft Punk. This is g
 lobal electronica on shuffle: Led Zeppelin's \"Four Sticks\" gets an a
 uthentically South Asian treatment that builds on the faux-Indian soun
 ds in the original; a few minutes later we're in the 19th century with
  a setting of the poet Ghalib's beautiful \"Har Ek Baat\" over a decid
 edly 21st century beat. All in all, Hello Hello is the duo's most adve
 nturous and mature release to date and one that promises to excite old
  fans while attracting new listeners.\n\n$7 presales available at Want
 ickets.com/MIGHTY\n\nFor more information visit https://trueskool.com/
 events/midival-punditz-with-karsh
DTSTART;TZID=America/Los_Angeles:20090416T210000
DTEND;TZID=America/Los_Angeles:20090417T030000
CATEGORIES:dance
LOCATION:Mighty, San Francisco
WEBSITE:http://www.mighty119.com
URL:http://www.mighty119.com
CONTACT:
ORGANIZER;CN="Carey Kopp":https://trueskool.com/profile/k85
ATTACH;FMTTYPE="image/jpeg":http://storage.ning.com/topology/rest/1.0/
 file/get/2247855807?profile=original
ATTENDEE;ROLE=REQ-PARTICIPANT;PARTSTAT=ACCEPTED;RSVP=TRUE;CN="Carey Ko
 pp":https://trueskool.com/profile/k85
END:VEVENT
END:VCALENDAR
