BEGIN:VCALENDAR
PRODID:NingEventWidget-v1
VERSION:2.0
METHOD:PUBLISH
BEGIN:VTIMEZONE
TZID:America/Los_Angeles
X-LIC-LOCATION:America/Los_Angeles
BEGIN:DAYLIGHT
TZOFFSETFROM:-0800
TZOFFSETTO:-0700
TZNAME:PDT
DTSTART:19700308T020000
RRULE:FREQ=YEARLY;BYMONTH=3;BYDAY=2SU
END:DAYLIGHT
BEGIN:STANDARD
TZOFFSETFROM:-0700
TZOFFSETTO:-0800
TZNAME:PST
DTSTART:19701101T020000
RRULE:FREQ=YEARLY;BYMONTH=11;BYDAY=1SU
END:STANDARD
END:VTIMEZONE
BEGIN:VEVENT
UID:1464587:Event:36080
DTSTAMP:20260420T195858Z
SUMMARY:MIDIval PunditZ & Karsh Kale
DESCRIPTION:MIGHTY presents MIDIval PunditZ & Karsh Kale\nThursday, Au
 gust 6th | 9pm | Adv. Tix at wantickets.com/MIGHTY\n\nMIDIVAL PUNDITZ\
 n\nMidival Punditz is the brainchild of childhood friends, Gaurav Rain
 a and Tapan Raj. In 1997, after being bored with the remix and Bollywo
 od driven music scene in India, the boys started producing original el
 ectronic music and sending out demo tracks to labels and other produce
 rs. Simultaneously, their monthly parties, Cyber Mehfil started becomi
 ng hugely popular and soon achieved cult status. Their efforts were qu
 ickly recognized by other artists and producers in the US & UK. Word s
 pread about the boys, as they came to be known as ‘The new sound of 
 21st Century India...' It was in 2000 that Six Degrees Records, home l
 abel of producer friend, Karsh Kale, became interested in signing the 
 Punditz. By 2001 they were the first Electronic music act from India t
 o ever sign an International Album deal. Since that time they have pro
 duced extensively with Six Degrees records viz. 3 studio albums, a rem
 ix album and a compilation. They have been featured internationally, o
 n over 50 Compilations, across the globe...\n\n\nKarsh Kale\n\nDescrib
 ed by Billboard Magazine as a “visionary composer and producer”, K
 arsh Kale is one of global music’s brightest stars. In the past 12 y
 ears as a solo recording artist, producer, composer, live performer an
 d DJ, Karsh has set the world of electronic fusion on fire and has hel
 ped to create a genre of music that continues to influence an entire g
 eneration. His body of work has been cause for fans and critics alike 
 to claim Kale as a pioneer and a trail blazer, not only opening doors 
 for his own career but for an entire scene to emerge in the world of e
 lectronica and fusion music. Karsh Kale has also developed a reputatio
 n as a genre bending collaborator and a world renowned tabla player an
 d musician, exploring the worlds of electronica, Indian classical musi
 c, rock, jazz fusion and hip hop which has led him to work with some o
 f the most renowned artists from around the globe. Kale continues to r
 einvent his ever-evolving sound and has established himself as one of 
 the worlds most sought after fusion artists.\n\nFor more information v
 isit https://trueskool.com/events/midival-punditz-karsh-kale
DTSTART;TZID=America/Los_Angeles:20090806T210000
DTEND;TZID=America/Los_Angeles:20090807T030000
CATEGORIES:bollywood, electronic, dance
LOCATION:MIGHTY, San Francisco
WEBSITE:http://www.mighty119.com
URL:http://www.mighty119.com
CONTACT:
ORGANIZER;CN="Carey Kopp":https://trueskool.com/profile/k85
ATTACH;FMTTYPE="image/jpeg":http://storage.ning.com/topology/rest/1.0/
 file/get/2247859465?profile=original
ATTENDEE;ROLE=REQ-PARTICIPANT;PARTSTAT=ACCEPTED;RSVP=TRUE;CN="Carey Ko
 pp":https://trueskool.com/profile/k85
END:VEVENT
END:VCALENDAR
