BEGIN:VCALENDAR
PRODID:NingEventWidget-v1
VERSION:2.0
METHOD:PUBLISH
BEGIN:VTIMEZONE
TZID:America/Los_Angeles
X-LIC-LOCATION:America/Los_Angeles
BEGIN:DAYLIGHT
TZOFFSETFROM:-0800
TZOFFSETTO:-0700
TZNAME:PDT
DTSTART:19700308T020000
RRULE:FREQ=YEARLY;BYMONTH=3;BYDAY=2SU
END:DAYLIGHT
BEGIN:STANDARD
TZOFFSETFROM:-0700
TZOFFSETTO:-0800
TZNAME:PST
DTSTART:19701101T020000
RRULE:FREQ=YEARLY;BYMONTH=11;BYDAY=1SU
END:STANDARD
END:VTIMEZONE
BEGIN:VEVENT
UID:1464587:Event:62061
DTSTAMP:20260421T164301Z
SUMMARY:Microphone Fiend ft. Casual & Pep Love of Hieroglyphics, Zumbi
  of Zion I, hosted by Saafir
DESCRIPTION:THURSDAY, JULY 22\nMicrophone Fiend\n\nfeat\nCasual & Pep 
 Love of Hieroglyphics\nZumbi of Zion I\n\nGuest Host:\nSaafir\n\nDJ B
 eats Me (Distortion2Static)\nDJ Strategy (Mixtape Wedesdays)\nDJ Haylo
 w (Distortion2Static)\n\n@ Mighty, 119 Utah Street SF\nComplimentary S
 hots by Los Osuna Agave Spirits\n$15 Pre-Sale Tickets\nhttp://micfiend
 .eventbrite.com/\n\nFor more information visit https://trueskool.com/e
 vents/microphone-fiend-ft-casual
DTSTART;TZID=America/Los_Angeles:20100722T220000
DTEND;TZID=America/Los_Angeles:20100723T020000
CATEGORIES:hip, hop
LOCATION:Mighty, San Francisco, CA
WEBSITE:http://micfiend.eventbrite.co
URL:http://micfiend.eventbrite.co
CONTACT:
ORGANIZER:Segue
ATTACH;FMTTYPE="image/jpeg":http://storage.ning.com/topology/rest/1.0/
 file/get/2247881635?profile=original
ATTENDEE;ROLE=REQ-PARTICIPANT;PARTSTAT=ACCEPTED;RSVP=TRUE;CN="Ren the 
 Vinyl Archaeologist":https://trueskool.com/profile/xh51jvilojur
END:VEVENT
END:VCALENDAR
