BEGIN:VCALENDAR
PRODID:NingEventWidget-v1
VERSION:2.0
METHOD:PUBLISH
BEGIN:VTIMEZONE
TZID:America/Los_Angeles
X-LIC-LOCATION:America/Los_Angeles
BEGIN:DAYLIGHT
TZOFFSETFROM:-0800
TZOFFSETTO:-0700
TZNAME:PDT
DTSTART:19700308T020000
RRULE:FREQ=YEARLY;BYMONTH=3;BYDAY=2SU
END:DAYLIGHT
BEGIN:STANDARD
TZOFFSETFROM:-0700
TZOFFSETTO:-0800
TZNAME:PST
DTSTART:19701101T020000
RRULE:FREQ=YEARLY;BYMONTH=11;BYDAY=1SU
END:STANDARD
END:VTIMEZONE
BEGIN:VEVENT
UID:1464587:Event:53445
DTSTAMP:20260421T094451Z
SUMMARY:Michael Rose
DESCRIPTION:Sunday April 11th\nMichael Rose\nplus guests\nRJD2 & The R
 eggae City Band\n\nSlims\n333 11th Street, San Francisco, CA\nAll Ages
 \ndoors at 8pm/show at 9pm\ntickets $28 adv $30 door\nBuy Tickets:\n\n
 \n \n\n\n\nFor more information visit https://trueskool.com/events/mic
 hael-rose-1
DTSTART;TZID=America/Los_Angeles:20100411T210000
DTEND;TZID=America/Los_Angeles:20100412T020000
CATEGORIES:reggae, hip, hop, funk, electro, trip, downtempo
LOCATION:Slims, San Francisco, CA
WEBSITE:http://tickets.slims-sf.com/evinfo.php?eventid=84761
URL:http://tickets.slims-sf.com/evinfo.php?eventid=84761
CONTACT:
ORGANIZER;CN="Editor's Pick":https://trueskool.com/profile/RentheVinyl
 Archaeologist
ATTACH;FMTTYPE="image/jpeg":http://storage.ning.com/topology/rest/1.0/
 file/get/2247876784?profile=original
ATTENDEE;ROLE=REQ-PARTICIPANT;PARTSTAT=ACCEPTED;RSVP=TRUE;CN="Editor's
  Pick":https://trueskool.com/profile/RentheVinylArchaeologist
END:VEVENT
END:VCALENDAR
