BEGIN:VCALENDAR
PRODID:NingEventWidget-v1
VERSION:2.0
METHOD:PUBLISH
BEGIN:VTIMEZONE
TZID:America/Los_Angeles
X-LIC-LOCATION:America/Los_Angeles
BEGIN:DAYLIGHT
TZOFFSETFROM:-0800
TZOFFSETTO:-0700
TZNAME:PDT
DTSTART:19700308T020000
RRULE:FREQ=YEARLY;BYMONTH=3;BYDAY=2SU
END:DAYLIGHT
BEGIN:STANDARD
TZOFFSETFROM:-0700
TZOFFSETTO:-0800
TZNAME:PST
DTSTART:19701101T020000
RRULE:FREQ=YEARLY;BYMONTH=11;BYDAY=1SU
END:STANDARD
END:VTIMEZONE
BEGIN:VEVENT
UID:1464587:Event:829251
DTSTAMP:20260421T123007Z
SUMMARY:MICHAEL FRANTI & SPEARHEAD (WIN TICKETS)
DESCRIPTION:ENTER TO WIN A PAIR OF TICKETS. WINNER WILL BE DRAWN RANDO
 MLY AND ANNOUNCED 2 DAYS PRIOR TO EVENT. \r\n\r\nSaturday, August 24,
  2024\r\nTHE TOGETHERNESS TOUR 2024\r\n MICHAEL FRANTI & SPEARHEAD\r\n
 Citizen Cope\r\n Bombargo\r\n\r\nFox Theater\r\n 1807 Telegraph Ave,\r
 \n Oakland, CA 94612\r\nDoors: 7:00pm | Show: 8:00pm\r\n>> BUY TICKETS
 \r\n\r\n\r\n\n\nFor more information visit https://trueskool.com/event
 s/michael-franti-spearhead-6
DTSTART;TZID=America/Los_Angeles:20240824T200000
DTEND;TZID=America/Los_Angeles:20240824T233000
CATEGORIES:"bay area", oakland, "san francisco", "san jose", berkeley
LOCATION:Fox Theater, Oakland
WEBSITE:https://www.ticketmaster.com/michael-franti-spearhead-oakland-
 california-08-24-2024/event/1C006075F3A35AE3?camefrom=CFC_ANOTHERPLANE
 T_trueskool&amp;brand=anotherplanet
URL:https://www.ticketmaster.com/michael-franti-spearhead-oakland-cali
 fornia-08-24-2024/event/1C006075F3A35AE3?camefrom=CFC_ANOTHERPLANET_tr
 ueskool&amp;brand=anotherplanet
CONTACT:
ORGANIZER:Another Planet Entertainment
ATTACH;FMTTYPE="image/jpeg":https://storage.ning.com/topology/rest/1.0
 /file/get/12437690657?profile=original
ATTENDEE;ROLE=REQ-PARTICIPANT;PARTSTAT=ACCEPTED;RSVP=TRUE;CN="Editor's
  Pick":https://trueskool.com/profile/RentheVinylArchaeologist
END:VEVENT
END:VCALENDAR
