BEGIN:VCALENDAR
PRODID:NingEventWidget-v1
VERSION:2.0
METHOD:PUBLISH
BEGIN:VTIMEZONE
TZID:America/Los_Angeles
X-LIC-LOCATION:America/Los_Angeles
BEGIN:DAYLIGHT
TZOFFSETFROM:-0800
TZOFFSETTO:-0700
TZNAME:PDT
DTSTART:19700308T020000
RRULE:FREQ=YEARLY;BYMONTH=3;BYDAY=2SU
END:DAYLIGHT
BEGIN:STANDARD
TZOFFSETFROM:-0700
TZOFFSETTO:-0800
TZNAME:PST
DTSTART:19701101T020000
RRULE:FREQ=YEARLY;BYMONTH=11;BYDAY=1SU
END:STANDARD
END:VTIMEZONE
BEGIN:VEVENT
UID:1464587:Event:665290
DTSTAMP:20260421T065735Z
SUMMARY:Michael Franti & Spearhead (WIN TICKETS)
DESCRIPTION: ENTER TO WIN A PAIR OF TICKETS. WINNER WILL BE DRAWN RAND
 OMLY AND ANNOUNCED 2 DAYS PRIOR TO EVENT. \r\n\r\nTue, Sep 19, 2017 Mi
 chael Franti & Spearhead\r\n\r\nThe Mountain Winery 14831 Pierce Road 
 Saratoga, CA 95070  - 7:30PM Ages: All Ages Doors Open: 5:30 PM >> BU
 Y TICKETS\r\n\n\nFor more information visit https://trueskool.com/even
 ts/michael-franti-spearhead-4
DTSTART;TZID=America/Los_Angeles:20170919T193000
DTEND;TZID=America/Los_Angeles:20170919T230000
CATEGORIES:"san francisco", oakland, berkley, "san jose", "bay area"
LOCATION:The Mountain Winery, Saratoga
WEBSITE:https://www.axs.com/events/333904/michael-franti-spearhead-tic
 kets?skin=mountainwinery
URL:https://www.axs.com/events/333904/michael-franti-spearhead-tickets
 ?skin=mountainwinery
CONTACT:
ORGANIZER:Goldenvoice
ATTACH;FMTTYPE="image/jpeg":http://storage.ning.com/topology/rest/1.0/
 file/get/2248003461?profile=original
ATTENDEE;ROLE=REQ-PARTICIPANT;PARTSTAT=ACCEPTED;RSVP=TRUE;CN="Elisa Bj
 eldanes":https://trueskool.com/profile/ElisaBjeldanes
ATTENDEE;ROLE=REQ-PARTICIPANT;PARTSTAT=ACCEPTED;RSVP=TRUE;CN="Editor's
  Pick":https://trueskool.com/profile/RentheVinylArchaeologist
END:VEVENT
END:VCALENDAR
