BEGIN:VCALENDAR
PRODID:NingEventWidget-v1
VERSION:2.0
METHOD:PUBLISH
BEGIN:VTIMEZONE
TZID:America/Los_Angeles
X-LIC-LOCATION:America/Los_Angeles
BEGIN:DAYLIGHT
TZOFFSETFROM:-0800
TZOFFSETTO:-0700
TZNAME:PDT
DTSTART:19700308T020000
RRULE:FREQ=YEARLY;BYMONTH=3;BYDAY=2SU
END:DAYLIGHT
BEGIN:STANDARD
TZOFFSETFROM:-0700
TZOFFSETTO:-0800
TZNAME:PST
DTSTART:19701101T020000
RRULE:FREQ=YEARLY;BYMONTH=11;BYDAY=1SU
END:STANDARD
END:VTIMEZONE
BEGIN:VEVENT
UID:1464587:Event:38589
DTSTAMP:20260420T230447Z
SUMMARY:MHz / Raymundo presents \"FUNKAFIED\"
DESCRIPTION:When was the last time you heard James Brown, They Might B
 e Giants, Fine Young Cannibals, The Meters, The Specials, English Beat
 , Michael Jackson, and The Clash in one night?\nNothing by Funk, Soul,
  & 80's retro the entire night.\n\nLive in the mix all night long:\n\n
 Raymundo (MHz/ KZSU 90.1 FM)\n\nThe Friendly Traveler (MHz/KZSU 90.1 F
 M)\n\nOh yea, it's FREE ALL NIGHT! There's plenty of parking in the ar
 ea.\n\nNot driving... the BART station is literally a block away!\n\n\
 nFor more information visit https://trueskool.com/events/mhz-raymundo-
 presents-1
DTSTART;TZID=America/Los_Angeles:20090828T220000
DTEND;TZID=America/Los_Angeles:20090829T020000
CATEGORIES:funk, soul, and, retro, "80's"
LOCATION:The Hot Spot Bar and Lounge, San Francisco, CA
WEBSITE:
URL:
CONTACT:
ORGANIZER;CN="Raymundo from MHz / KZSU 90.1 FM":https://trueskool.com/
 profile/RaymundofromMHzKZSU901FM
ATTACH;FMTTYPE="image/jpeg":http://storage.ning.com/topology/rest/1.0/
 file/get/2247859923?profile=original
ATTENDEE;ROLE=REQ-PARTICIPANT;PARTSTAT=ACCEPTED;RSVP=TRUE;CN="Raymundo
  from MHz / KZSU 90.1 FM":https://trueskool.com/profile/RaymundofromMH
 zKZSU901FM
END:VEVENT
END:VCALENDAR
