BEGIN:VCALENDAR
PRODID:NingEventWidget-v1
VERSION:2.0
METHOD:PUBLISH
BEGIN:VTIMEZONE
TZID:America/Los_Angeles
X-LIC-LOCATION:America/Los_Angeles
BEGIN:DAYLIGHT
TZOFFSETFROM:-0800
TZOFFSETTO:-0700
TZNAME:PDT
DTSTART:19700308T020000
RRULE:FREQ=YEARLY;BYMONTH=3;BYDAY=2SU
END:DAYLIGHT
BEGIN:STANDARD
TZOFFSETFROM:-0700
TZOFFSETTO:-0800
TZNAME:PST
DTSTART:19701101T020000
RRULE:FREQ=YEARLY;BYMONTH=11;BYDAY=1SU
END:STANDARD
END:VTIMEZONE
BEGIN:VEVENT
UID:1464587:Event:49261
DTSTAMP:20260421T020101Z
SUMMARY:Method Man
DESCRIPTION:CLICK HERE TO WIN A PAIR OF TICKETS\nhttp://www.trueskool.
 com/group/wintickets\n\n\nSaturday April 17th\nMethod Man\nplus specia
 l guests\n\n\nShattuck Downlow, 2484 Shattuck Ave., Berkeley\ndoors at
  9pm\ntickets $35adv $40door\nBuy Tickets:\nhttp://ineffablerecords.in
 ticketing.com/events/79791/METHOD-MAN\n\n\nFor more information visit 
 https://trueskool.com/events/method-man
DTSTART;TZID=America/Los_Angeles:20100417T210000
DTEND;TZID=America/Los_Angeles:20100418T020000
CATEGORIES:hip, hop
LOCATION:Shattuck Downlow, Berkeley
WEBSITE:http://ineffablerecords.inticketing.com/events/79791
URL:http://ineffablerecords.inticketing.com/events/79791
CONTACT:
ORGANIZER:Ineffable
ATTACH;FMTTYPE="image/jpeg":http://storage.ning.com/topology/rest/1.0/
 file/get/2247874629?profile=original
ATTENDEE;ROLE=REQ-PARTICIPANT;PARTSTAT=ACCEPTED;RSVP=TRUE;CN="takumi s
 uzuki":https://trueskool.com/profile/takumisuzuki
ATTENDEE;ROLE=REQ-PARTICIPANT;PARTSTAT=ACCEPTED;RSVP=TRUE;CN="Editor's
  Pick":https://trueskool.com/profile/RentheVinylArchaeologist
END:VEVENT
END:VCALENDAR
