BEGIN:VCALENDAR
PRODID:NingEventWidget-v1
VERSION:2.0
METHOD:PUBLISH
BEGIN:VTIMEZONE
TZID:America/Los_Angeles
X-LIC-LOCATION:America/Los_Angeles
BEGIN:DAYLIGHT
TZOFFSETFROM:-0800
TZOFFSETTO:-0700
TZNAME:PDT
DTSTART:19700308T020000
RRULE:FREQ=YEARLY;BYMONTH=3;BYDAY=2SU
END:DAYLIGHT
BEGIN:STANDARD
TZOFFSETFROM:-0700
TZOFFSETTO:-0800
TZNAME:PST
DTSTART:19701101T020000
RRULE:FREQ=YEARLY;BYMONTH=11;BYDAY=1SU
END:STANDARD
END:VTIMEZONE
BEGIN:VEVENT
UID:1464587:Event:35789
DTSTAMP:20260421T005542Z
SUMMARY:Method Man, Redman, Ghostface Killah
DESCRIPTION:\nAnother Planet, The Independent and MEZZANINE present\nM
 ethod Man\nRedman\nGhostface Killah\n\nMezzanine, 444 Jessie Street @ 
 Mint, San Francisco, California 94103\n\nDoors at 7 PM. Show at 8 PM.\
 n\n$35 Advance\nOn sale 6/28\n\nTickets at Ticketmaster.com or at\nThe
  Independent box office.\n\nDress Code Will Be Enforced at the Door\nN
 o sportswear, tennis shoes, hats or t-shirts.\n\nTickets @ tinyurl.com
 /buy-tix-online\n\nFor more information visit https://trueskool.com/ev
 ents/method-man-redman-ghostface
DTSTART;TZID=America/Los_Angeles:20090816T190000
DTEND;TZID=America/Los_Angeles:20090817T230000
CATEGORIES:hip, hop
LOCATION:Mezzanine, San Francisco, California
WEBSITE:http://www.tinyurl.com/buy-tix-online
URL:http://www.tinyurl.com/buy-tix-online
CONTACT:
ORGANIZER:Another Planet, The Independent and MEZZANINE
ATTACH;FMTTYPE="image/jpeg":http://storage.ning.com/topology/rest/1.0/
 file/get/2247851515?profile=original
ATTENDEE;ROLE=REQ-PARTICIPANT;PARTSTAT=ACCEPTED;RSVP=TRUE;CN="Ren the 
 Vinyl Archaeologist":https://trueskool.com/profile/xh51jvilojur
END:VEVENT
END:VCALENDAR
