BEGIN:VCALENDAR
PRODID:NingEventWidget-v1
VERSION:2.0
METHOD:PUBLISH
BEGIN:VTIMEZONE
TZID:America/Los_Angeles
X-LIC-LOCATION:America/Los_Angeles
BEGIN:DAYLIGHT
TZOFFSETFROM:-0800
TZOFFSETTO:-0700
TZNAME:PDT
DTSTART:19700308T020000
RRULE:FREQ=YEARLY;BYMONTH=3;BYDAY=2SU
END:DAYLIGHT
BEGIN:STANDARD
TZOFFSETFROM:-0700
TZOFFSETTO:-0800
TZNAME:PST
DTSTART:19701101T020000
RRULE:FREQ=YEARLY;BYMONTH=11;BYDAY=1SU
END:STANDARD
END:VTIMEZONE
BEGIN:VEVENT
UID:1464587:Event:444533
DTSTAMP:20260421T064651Z
SUMMARY:Method Man & Redman 11/26 [NYC]
DESCRIPTION:\nMethod Man & Redman\n\n\n\n\nBest Buy Theater New York, 
 NY\n\nWed, 11/26/1408:00 PM\n\nSee Ticketson Partner Site\n\n\n\n\n\n\
 nFor more information visit https://trueskool.com/events/method-man-re
 dman-11-26-nyc
DTSTART;TZID=America/Los_Angeles:20141126T200000
DTEND;TZID=America/Los_Angeles:20141126T230000
CATEGORIES:nyc
LOCATION:Best Buy Theater New York, NY
WEBSITE:http://www.ticketmaster.com/partner_redirect?v=4GpSZcGN0Vdt-t2
 DuKgKZ0uN19CEYkHJ6AvzAb30XKqJ4deiJBsk5q8kv0PDmVycHAqJkBrmbl80XZAJ36WD6
 Kk8_moejDpnC-Lofw8OtXI-6D-N0GtnardxC5ucKn56M-KbzB0jlmnoJR9hlbNWoFfh6PJ
 2kDL3ekfMRzgl7fVC7NZwChNCs0RMfLY97UBdua_DcPRWt1JU&eventid=2B004D0DFA3E
 093D&artistid=1242528&artistname=Method%20Man%20&%20Redman
URL:http://www.ticketmaster.com/partner_redirect?v=4GpSZcGN0Vdt-t2DuKg
 KZ0uN19CEYkHJ6AvzAb30XKqJ4deiJBsk5q8kv0PDmVycHAqJkBrmbl80XZAJ36WD6Kk8_
 moejDpnC-Lofw8OtXI-6D-N0GtnardxC5ucKn56M-KbzB0jlmnoJR9hlbNWoFfh6PJ2kDL
 3ekfMRzgl7fVC7NZwChNCs0RMfLY97UBdua_DcPRWt1JU&eventid=2B004D0DFA3E093D
 &artistid=1242528&artistname=Method%20Man%20&%20Redman
CONTACT:
ORGANIZER:Editor's Pick
ATTACH;FMTTYPE="image/jpeg":http://storage.ning.com/topology/rest/1.0/
 file/get/2247969603?profile=original
ATTENDEE;ROLE=REQ-PARTICIPANT;PARTSTAT=ACCEPTED;RSVP=TRUE;CN="Ren the 
 Vinyl Archaeologist":https://trueskool.com/profile/xh51jvilojur
END:VEVENT
END:VCALENDAR
