BEGIN:VCALENDAR
PRODID:NingEventWidget-v1
VERSION:2.0
METHOD:PUBLISH
BEGIN:VTIMEZONE
TZID:America/Los_Angeles
X-LIC-LOCATION:America/Los_Angeles
BEGIN:DAYLIGHT
TZOFFSETFROM:-0800
TZOFFSETTO:-0700
TZNAME:PDT
DTSTART:19700308T020000
RRULE:FREQ=YEARLY;BYMONTH=3;BYDAY=2SU
END:DAYLIGHT
BEGIN:STANDARD
TZOFFSETFROM:-0700
TZOFFSETTO:-0800
TZNAME:PST
DTSTART:19701101T020000
RRULE:FREQ=YEARLY;BYMONTH=11;BYDAY=1SU
END:STANDARD
END:VTIMEZONE
BEGIN:VEVENT
UID:1464587:Event:38791
DTSTAMP:20260420T230257Z
SUMMARY:Meshell Ndegeocello (Win Tickets)
DESCRIPTION:WIN A PAIR OF TICKETS. Send your FULL NAME to trueskoolcon
 test@gmail.com with \"Meshell\" in the Subject line. Winner will be dr
 awn randomly and announced 3 days before the event.\n\nSATURDAY, OCTOB
 ER 24\n\nMeshell Ndegeocello\n\nTHE INDEPENDENT - 628 DIVISADERO STREE
 T - SAN FRANCISCO, CA - 415.771.1421\nBOOKING QUESTIONS • ALL SHOWS 
 21 AND OVER\nDoors 8:30 PM | Show 9 PM\nTickets $25\nBuy Tickets\n\nFo
 r more information visit https://trueskool.com/events/meshell-ndegeoce
 llo-win
DTSTART;TZID=America/Los_Angeles:20091024T203000
DTEND;TZID=America/Los_Angeles:20091024T230000
CATEGORIES:soul, "r&b"
LOCATION:THE INDEPENDENT - SAN FRANCISCO, CA
WEBSITE:http://www.ticketweb.com/snl/CalendarListings.action?venueId=t
 heindependentsf&month=9&year=2009
URL:http://www.ticketweb.com/snl/CalendarListings.action?venueId=thein
 dependentsf&month=9&year=2009
CONTACT:
ORGANIZER:Another Planet Entertainment
ATTACH;FMTTYPE="image/jpeg":http://storage.ning.com/topology/rest/1.0/
 file/get/2247852983?profile=original
ATTENDEE;ROLE=REQ-PARTICIPANT;PARTSTAT=ACCEPTED;RSVP=TRUE;CN=Inez:http
 s://trueskool.com/profile/Inez
ATTENDEE;ROLE=REQ-PARTICIPANT;PARTSTAT=ACCEPTED;RSVP=TRUE;CN="Ren the 
 Vinyl Archaeologist":https://trueskool.com/profile/xh51jvilojur
END:VEVENT
END:VCALENDAR
