BEGIN:VCALENDAR
PRODID:NingEventWidget-v1
VERSION:2.0
METHOD:PUBLISH
BEGIN:VTIMEZONE
TZID:America/Los_Angeles
X-LIC-LOCATION:America/Los_Angeles
BEGIN:DAYLIGHT
TZOFFSETFROM:-0800
TZOFFSETTO:-0700
TZNAME:PDT
DTSTART:19700308T020000
RRULE:FREQ=YEARLY;BYMONTH=3;BYDAY=2SU
END:DAYLIGHT
BEGIN:STANDARD
TZOFFSETFROM:-0700
TZOFFSETTO:-0800
TZNAME:PST
DTSTART:19701101T020000
RRULE:FREQ=YEARLY;BYMONTH=11;BYDAY=1SU
END:STANDARD
END:VTIMEZONE
BEGIN:VEVENT
UID:1464587:Event:59989
DTSTAMP:20260421T020251Z
SUMMARY:Meshell Ndegeocello - Presents a Night of Gil Scott-Heron cove
 rs
DESCRIPTION:Meshell Ndegeocello : Presents a Night of Gil Scott-Heron 
 covers\n\nJun 25\n\nFriday\n8pm show $28\n10pm show $22\n\nFor more in
 formation visit https://trueskool.com/events/meshell-ndegeocello-prese
 nts-1
DTSTART;TZID=America/Los_Angeles:20100625T200000
DTEND;TZID=America/Los_Angeles:20100625T220000
CATEGORIES:soul
LOCATION:Yoshi's, San Francisco, CA
WEBSITE:http://sfyoshis2.inticketing.com/evlist.php?events=search&sear
 chstr=meshell
URL:http://sfyoshis2.inticketing.com/evlist.php?events=search&searchst
 r=meshell
CONTACT:
ORGANIZER;CN="Editor's Pick":https://trueskool.com/profile/RentheVinyl
 Archaeologist
ATTACH;FMTTYPE="image/jpeg":http://storage.ning.com/topology/rest/1.0/
 file/get/2247880996?profile=original
ATTENDEE;ROLE=REQ-PARTICIPANT;PARTSTAT=ACCEPTED;RSVP=TRUE;CN="Editor's
  Pick":https://trueskool.com/profile/RentheVinylArchaeologist
END:VEVENT
END:VCALENDAR
