BEGIN:VCALENDAR
PRODID:NingEventWidget-v1
VERSION:2.0
METHOD:PUBLISH
BEGIN:VTIMEZONE
TZID:America/Los_Angeles
X-LIC-LOCATION:America/Los_Angeles
BEGIN:DAYLIGHT
TZOFFSETFROM:-0800
TZOFFSETTO:-0700
TZNAME:PDT
DTSTART:19700308T020000
RRULE:FREQ=YEARLY;BYMONTH=3;BYDAY=2SU
END:DAYLIGHT
BEGIN:STANDARD
TZOFFSETFROM:-0700
TZOFFSETTO:-0800
TZNAME:PST
DTSTART:19701101T020000
RRULE:FREQ=YEARLY;BYMONTH=11;BYDAY=1SU
END:STANDARD
END:VTIMEZONE
BEGIN:VEVENT
UID:1464587:Event:312480
DTSTAMP:20260421T054030Z
SUMMARY:Ménage with special guest Ren the Vinyl Archaeologist
DESCRIPTION: FRIDAY FEB 14\nMénage (2nd Fridays) \nA party for the Wo
 men who love Women and their allies. So come thru and celebrate the lo
 ve with us on this very night. Ménage welcomes everyone with a positi
 ve open-mind and ready to have a party.\nWith Special Guest: DJ Ren \"
 The Vinyl Archeaologist\" of True Skool in the building.\nat the Bench
  N' Bar 510 17th St. Oakland. $3 before 10pm, $7 after 11 til close. \
 nDoors open at 9pm til 2am.\n\nFor more information visit https://true
 skool.com/events/menage-with-special-guest-ren-the-vinyl-archaeologist
DTSTART;TZID=America/Los_Angeles:20140214T210000
DTEND;TZID=America/Los_Angeles:20140215T020000
CATEGORIES:"bay area", oakland
LOCATION:Bench n Bar, Oakland
WEBSITE:http://www.bench-and-bar.com
URL:http://www.bench-and-bar.com
CONTACT:
ORGANIZER:Ménage
ATTACH;FMTTYPE="image/jpeg":http://storage.ning.com/topology/rest/1.0/
 file/get/2247956375?profile=original
ATTENDEE;ROLE=REQ-PARTICIPANT;PARTSTAT=ACCEPTED;RSVP=TRUE;CN="Staff Pi
 ck":https://trueskool.com/profile/Ren
END:VEVENT
END:VCALENDAR
