BEGIN:VCALENDAR
PRODID:NingEventWidget-v1
VERSION:2.0
METHOD:PUBLISH
BEGIN:VTIMEZONE
TZID:America/Los_Angeles
X-LIC-LOCATION:America/Los_Angeles
BEGIN:DAYLIGHT
TZOFFSETFROM:-0800
TZOFFSETTO:-0700
TZNAME:PDT
DTSTART:19700308T020000
RRULE:FREQ=YEARLY;BYMONTH=3;BYDAY=2SU
END:DAYLIGHT
BEGIN:STANDARD
TZOFFSETFROM:-0700
TZOFFSETTO:-0800
TZNAME:PST
DTSTART:19701101T020000
RRULE:FREQ=YEARLY;BYMONTH=11;BYDAY=1SU
END:STANDARD
END:VTIMEZONE
BEGIN:VEVENT
UID:1464587:Event:275823
DTSTAMP:20260421T050552Z
SUMMARY:Mellowhigh
DESCRIPTION:\n DEC 3 \n Tue\n\nGramercy TheatreNew York, NY07:00 P
 M\n\nMellowhigh feat Hodgy Beats, Domo Genesis and Left Brain of Odd F
 utureDetails: Mellowhigh\nFind Tickets\n\n\n\n\nFor more information v
 isit https://trueskool.com/events/mellowhigh
DTSTART;TZID=America/Los_Angeles:20131203T190000
DTEND;TZID=America/Los_Angeles:20131203T230000
CATEGORIES:nyc
LOCATION:Gramercy Theatre, New York
WEBSITE:http://concerts.livenation.com/event/00004B4B0A03FC63?tm_link=
 artist_msg-0_00004B4B0A03FC63&crosssite=TM_US:1916963:107
URL:http://concerts.livenation.com/event/00004B4B0A03FC63?tm_link=arti
 st_msg-0_00004B4B0A03FC63&crosssite=TM_US:1916963:107
CONTACT:
ORGANIZER;CN="Editor's Pick":https://trueskool.com/profile/RentheVinyl
 Archaeologist
ATTACH;FMTTYPE="image/jpeg":http://storage.ning.com/topology/rest/1.0/
 file/get/2247954452?profile=original
ATTENDEE;ROLE=REQ-PARTICIPANT;PARTSTAT=ACCEPTED;RSVP=TRUE;CN="Editor's
  Pick":https://trueskool.com/profile/RentheVinylArchaeologist
END:VEVENT
END:VCALENDAR
