BEGIN:VCALENDAR
PRODID:NingEventWidget-v1
VERSION:2.0
METHOD:PUBLISH
BEGIN:VTIMEZONE
TZID:America/Los_Angeles
X-LIC-LOCATION:America/Los_Angeles
BEGIN:DAYLIGHT
TZOFFSETFROM:-0800
TZOFFSETTO:-0700
TZNAME:PDT
DTSTART:19700308T020000
RRULE:FREQ=YEARLY;BYMONTH=3;BYDAY=2SU
END:DAYLIGHT
BEGIN:STANDARD
TZOFFSETFROM:-0700
TZOFFSETTO:-0800
TZNAME:PST
DTSTART:19701101T020000
RRULE:FREQ=YEARLY;BYMONTH=11;BYDAY=1SU
END:STANDARD
END:VTIMEZONE
BEGIN:VEVENT
UID:1464587:Event:42375
DTSTAMP:20260420T230442Z
SUMMARY:MEGA BANTON & PRESTIGE AT THE ROCK-IT-ROOM
DESCRIPTION:MEGA BANTON AND PRESTIGE LIVE IN CONCERT SUNDAY NOVEMBER 8
  AT THE ROCK-IT-ROOM 406 CLEMENT STREET SAN FRANCISCO BACK BY JAMAICA'
 S BLADE BAND. $10 ADVANCE $15 @ DOOR GO TO www.brownpapertickets.com\n
 \nFor more information visit https://trueskool.com/events/mega-banton-
 prestige-at-the
DTSTART;TZID=America/Los_Angeles:20091108T210000
DTEND;TZID=America/Los_Angeles:20091109T013000
CATEGORIES:reggae, dancehall, roots, and, culture
LOCATION:ROCK-IT-ROOM
WEBSITE:http://ROCK-IT-ROOM.COM
URL:http://ROCK-IT-ROOM.COM
CONTACT:415-387-6343
ORGANIZER;CN="Postman Ali":https://trueskool.com/profile/PostmanAli
ATTACH;FMTTYPE="image/jpeg":http://storage.ning.com/topology/rest/1.0/
 file/get/2247869294?profile=original
ATTENDEE;ROLE=REQ-PARTICIPANT;PARTSTAT=ACCEPTED;RSVP=TRUE;CN="Postman 
 Ali":https://trueskool.com/profile/PostmanAli
END:VEVENT
END:VCALENDAR
