BEGIN:VCALENDAR
PRODID:NingEventWidget-v1
VERSION:2.0
METHOD:PUBLISH
BEGIN:VTIMEZONE
TZID:America/Los_Angeles
X-LIC-LOCATION:America/Los_Angeles
BEGIN:DAYLIGHT
TZOFFSETFROM:-0800
TZOFFSETTO:-0700
TZNAME:PDT
DTSTART:19700308T020000
RRULE:FREQ=YEARLY;BYMONTH=3;BYDAY=2SU
END:DAYLIGHT
BEGIN:STANDARD
TZOFFSETFROM:-0700
TZOFFSETTO:-0800
TZNAME:PST
DTSTART:19701101T020000
RRULE:FREQ=YEARLY;BYMONTH=11;BYDAY=1SU
END:STANDARD
END:VTIMEZONE
BEGIN:VEVENT
UID:1464587:Event:675277
DTSTAMP:20260421T034246Z
SUMMARY:MC Magic and Baby Bash
DESCRIPTION:\r\nFRIDAY, JUNE 1Goldenvoice presentsMC Magic and Baby Ba
 sh\r\n\r\n@ The Regency Ballroom San Francisco, CA 9:00 PM Ages: All A
 ges>> BUY TICKETS\r\n\n\nFor more information visit https://trueskool.
 com/events/mc-magic-and-baby-bash
DTSTART;TZID=America/Los_Angeles:20180601T210000
DTEND;TZID=America/Los_Angeles:20180601T230000
CATEGORIES:"bay area", "san francisco"
LOCATION:Regency Ballroom, SF
WEBSITE:https://www.axs.com/events/353523/mc-magic-and-baby-bash-ticke
 ts?skin=regency
URL:https://www.axs.com/events/353523/mc-magic-and-baby-bash-tickets?s
 kin=regency
CONTACT:
ORGANIZER:Goldenvoice
ATTACH;FMTTYPE="image/jpeg":http://storage.ning.com/topology/rest/1.0/
 file/get/2248006240?profile=original
ATTENDEE;ROLE=REQ-PARTICIPANT;PARTSTAT=ACCEPTED;RSVP=TRUE;CN="Editor's
  Pick":https://trueskool.com/profile/RentheVinylArchaeologist
END:VEVENT
END:VCALENDAR
