BEGIN:VCALENDAR
PRODID:NingEventWidget-v1
VERSION:2.0
METHOD:PUBLISH
BEGIN:VTIMEZONE
TZID:America/Los_Angeles
X-LIC-LOCATION:America/Los_Angeles
BEGIN:DAYLIGHT
TZOFFSETFROM:-0800
TZOFFSETTO:-0700
TZNAME:PDT
DTSTART:19700308T020000
RRULE:FREQ=YEARLY;BYMONTH=3;BYDAY=2SU
END:DAYLIGHT
BEGIN:STANDARD
TZOFFSETFROM:-0700
TZOFFSETTO:-0800
TZNAME:PST
DTSTART:19701101T020000
RRULE:FREQ=YEARLY;BYMONTH=11;BYDAY=1SU
END:STANDARD
END:VTIMEZONE
BEGIN:VEVENT
UID:1464587:Event:305314
DTSTAMP:20260421T022459Z
SUMMARY:Mayer Hawthorne \"DJ Set\" (WIN TICKETS)
DESCRIPTION:\n\nSATURDAY FEB.1ST  2014 \nMayer Hawthorne \"DJ Set\"
  at Temple SF\nPlus:\nDj Amen & Dj Sean G\n \nTEMPLE SF \n540 HOWAR
 D \nSF CA 94105 BUY TICKETS\n \nfor bottle service www.TEMPLESF.com\
 n\n\nFor more information visit https://trueskool.com/events/mayer-haw
 thorne-dj-set-win-tickets
DTSTART;TZID=America/Los_Angeles:20140201T220000
DTEND;TZID=America/Los_Angeles:20140202T020000
CATEGORIES:"bay area", "san francisco"
LOCATION:Temple, San Francisco
WEBSITE:http://www.eventbrite.com/e/mayer-hawthorne-dj-set-at-temple-s
 f-tickets-10262636823
URL:http://www.eventbrite.com/e/mayer-hawthorne-dj-set-at-temple-sf-ti
 ckets-10262636823
CONTACT:
ORGANIZER:Ankh Marketing
ATTACH;FMTTYPE="image/jpeg":http://storage.ning.com/topology/rest/1.0/
 file/get/2247956695?profile=original
ATTENDEE;ROLE=REQ-PARTICIPANT;PARTSTAT=ACCEPTED;RSVP=TRUE;CN="Donte Ha
 rrison":https://trueskool.com/profile/DonteHarrison
ATTENDEE;ROLE=REQ-PARTICIPANT;PARTSTAT=ACCEPTED;RSVP=TRUE;CN=Deepak:ht
 tps://trueskool.com/profile/Deepak
ATTENDEE;ROLE=REQ-PARTICIPANT;PARTSTAT=ACCEPTED;RSVP=TRUE;CN="Elisa Bj
 eldanes":https://trueskool.com/profile/ElisaBjeldanes
ATTENDEE;ROLE=REQ-PARTICIPANT;PARTSTAT=ACCEPTED;RSVP=TRUE;CN="Kate Hor
 ton":https://trueskool.com/profile/KateHorton
ATTENDEE;ROLE=REQ-PARTICIPANT;PARTSTAT=ACCEPTED;RSVP=TRUE;CN=Kim:https
 ://trueskool.com/profile/Kim970
ATTENDEE;ROLE=REQ-PARTICIPANT;PARTSTAT=ACCEPTED;RSVP=TRUE;CN="Joseph K
 im":https://trueskool.com/profile/JosephKim
ATTENDEE;ROLE=REQ-PARTICIPANT;PARTSTAT=ACCEPTED;RSVP=TRUE;CN="Caroline
  Calderon":https://trueskool.com/profile/CarolineCalderon
ATTENDEE;ROLE=REQ-PARTICIPANT;PARTSTAT=ACCEPTED;RSVP=TRUE;CN="Genel Si
 son":https://trueskool.com/profile/GenelSison
ATTENDEE;ROLE=REQ-PARTICIPANT;PARTSTAT=ACCEPTED;RSVP=TRUE;CN="Randy Re
 iss":https://trueskool.com/profile/RandyReiss
ATTENDEE;ROLE=REQ-PARTICIPANT;PARTSTAT=ACCEPTED;RSVP=TRUE;CN=Barbara:h
 ttps://trueskool.com/profile/Barbara
ATTENDEE;ROLE=REQ-PARTICIPANT;PARTSTAT=ACCEPTED;RSVP=TRUE;CN="ANGELA S
 HORT":https://trueskool.com/profile/ANGELASHORT
ATTENDEE;ROLE=REQ-PARTICIPANT;PARTSTAT=ACCEPTED;RSVP=TRUE;CN="Staff Pi
 ck":https://trueskool.com/profile/Ren
END:VEVENT
END:VCALENDAR
